{"text_format":"1","workbook":"xlsx","n_sheets":6,"sheets":["List1","1 liga","1 kolo","2 kolo","3 kolo","Tabulka podzimní část"],"not_rendered":{"charts":0,"images":0,"macros":1,"external_links":0,"defined_names":6,"comments":0,"pivot_tables":0},"unopened":[],"bounds":{"document_bytes":16777216,"sheet_cells":100000,"rows_first":2000,"rows_last":500,"rows_between":2000,"halvings":0,"cell_chars":16384,"cell_head_chars":4096},"cells_cut":0,"cells_raw":0,"read":"whole","date_system":"1900"}

{"sheet":"List1","index":0,"n_rows":33,"n_cols":17,"rows_kept":33,"cut":false,"hidden":true,"merged":[[15,1,15,2]]}
["Poř.","Družstvo","Celkem","zápasy","průměr","skóre","body","Poznámka","NV",null,"Pč.","Příjmení a jméno","Družstvo","Celkem","zápasy","Průměr","NV"]
[1,"Básníci ",10598,15,706.5333333333333,"87 : 33",25,"",765,null,1,"Brabenec Petr","Básníci ",2307,9,256.33333333333331,301]
[2,"Česyk",10565,15,704.33333333333337,"80 : 40",21,"",738,null,2,"Januš Ivan","Česyk",3555,14,253.92857142857142,279]
[3,"Georeal",9769,14,697.78571428571433,"63 : 49",16,"",753,null,3,"Kříž Josef","Georeal",3112,13,239.38461538461539,256]
[4,"Benešov D",9382,15,670.14285714285711,"59 : 61",15,"",720,null,4,"Novák Jiří","Básníci ",3587,15,239.13333333333333,295]
[5,"Šody",8802,15,628.71428571428567,"41 : 79",9,"",702,null,5,"Váňová Marie","Pohodáři",2147,9,238.55555555555554,260]
[6,"Pohodáři",8410,14,600.71428571428567,"22 : 90",2,"",667,null,6,"Vrňák Miroslav","Georeal",3095,13,238.07692307692307,277]
[7,0,0,0,"","0 : 0",0,null,0,null,7,"Šostý Michal","Šody",2610,11,237.27272727272728,282]
[7,0,0,0,"","0 : 0",0,"",0,null,8,"Veselý Michal","Česyk",1419,6,236.5,256]
[10,0,0,0,"","0 : 0",0,"",0,null,9,"Palát Karel","Básníci ",1394,6,232.33333333333334,243]
[11,null,null,null,null,null,null,null,null,null,10,"Polach Patrik","Benešov D",2550,11,231.81818181818181,258]
[12,null,null,null,null,null,null,null,null,null,11,"Vyskočil Marek","Benešov D",2973,13,228.69230769230768,258]
[13,null,null,null,null,null,null,null,null,null,12,"Januš Karel","Česyk",1807,8,225.875,252]
["Poř.",null,null,null,null,null,null,null,null,null,13,"Weiman Petr","Česyk",2910,13,223.84615384615384,245]
[null,null,null,null,null,null,null,null,null,null,14,"Červ Marek","Georeal",2234,10,223.4,255]
[null,null,null,null,null,null,null,null,null,null,15,"Seifert Daniel","Básníci ",3058,14,218.42857142857142,252]
[null,null,null,null,null,null,null,null,null,null,16,"Dvořák David","Benešov D",2395,11,217.72727272727272,283]
[null,null,null,null,null,null,null,null,null,null,17,"Procházka Miroslav","Benešov D",1464,7,209.14285714285714,225]
[null,null,null,null,null,null,null,null,null,null,18,"Kohout Ondřej","Šody",2071,10,207.1,226]
[null,null,null,null,null,null,null,null,null,null,19,"Hypša Martin","Šody",1607,8,200.875,228]
[null,null,null,null,null,null,null,null,null,null,20,"Kešner Martin","Šody",1377,7,196.71428571428572,223]
[null,null,null,null,null,null,null,null,null,null,21,"Vaškovic Luboš","Pohodáři",2163,11,196.63636363636363,218]
[null,null,null,null,null,null,null,null,null,null,22,"Pečenka Jaroslav","Pohodáři",2116,11,192.36363636363637,227]
[null,null,null,null,null,null,null,null,null,null,23,"Pospíšilová Zdeňka","Šody",960,5,192,205]
[null,null,null,null,null,null,null,null,null,null,24,"Pečenková Jana","Pohodáři",1768,10,176.8,196]
[]
[null,null,null,null,null,null,null,null,null,null,25,"Seifertová Daniela","Básníci ",252,1,252,252]
[null,null,null,null,null,null,null,null,null,null,26,"Červ Petr","Georeal",458,2,229,247]
[null,null,null,null,null,null,null,null,null,null,27,"Šmíd Jan","Česyk",662,3,220.66666666666666,246]
[null,null,null,null,null,null,null,null,null,null,28,"Král František","Georeal",870,4,217.5,237]
[null,null,null,null,null,null,null,null,null,null,29,"Střídání","Pohodáři",216,1,216,216]
[null,null,null,null,null,null,null,null,null,null,30,"Střídání","Česyk",212,1,212,212]
[null,null,null,null,null,null,null,null,null,null,31,"Hausenbach Kuba","Šody",177,1,177,177]

{"sheet":"1 liga","index":1,"n_rows":48,"n_cols":9,"rows_kept":48,"cut":false,"hidden":false,"merged":[[0,0,0,8],[16,1,16,2]]}
["Průběžné výsledky Memoriálu Vavříka - 1.liga 2023-2024"]
["Poř.","Družstvo","Celkem","zápasy","průměr","skóre","body","Poznámka","NV"]
[1,"Básníci ",10598,15,706.5333333333333,"87 : 33",25,"",765]
[2,"Česyk",10565,15,704.33333333333337,"80 : 40",21,"",738]
[3,"Georeal",9769,14,697.78571428571433,"63 : 49",16,"",753]
[4,"Benešov D",9382,15,670.14285714285711,"59 : 61",15,"",720]
[5,"Šody",8802,15,628.71428571428567,"41 : 79",9,"",702]
[6,"Pohodáři",8410,14,600.71428571428567,"22 : 90",2,"",667]
[7,0,0,0,"","0 : 0",0,null,0]
[7,0,0,0,"","0 : 0",0,"",0]
[10,0,0,0,"","0 : 0",0,"",0]
[11]
[12]
[13]
["Poř."]
[]
["Pč.","Příjmení a jméno",null,"Družstvo","Celkem","zápasy","Průměr","Pozn.","NV"]
[1,"Brabenec Petr",null,"Básníci ",2307,9,256.33333333333331,"",301]
[2,"Januš Ivan",null,"Česyk",3555,14,253.92857142857142,"",279]
[3,"Kříž Josef",null,"Georeal",3112,13,239.38461538461539,"",256]
[4,"Novák Jiří",null,"Básníci ",3587,15,239.13333333333333,"",295]
[5,"Váňová Marie",null,"Pohodáři",2147,9,238.55555555555554,"",260]
[6,"Vrňák Miroslav",null,"Georeal",3095,13,238.07692307692307,"",277]
[7,"Šostý Michal",null,"Šody",2610,11,237.27272727272728,"",282]
[8,"Veselý Michal",null,"Česyk",1419,6,236.5,"",256]
[9,"Palát Karel",null,"Básníci ",1394,6,232.33333333333334,"",243]
[10,"Polach Patrik",null,"Benešov D",2550,11,231.81818181818181,"",258]
[11,"Vyskočil Marek",null,"Benešov D",2973,13,228.69230769230768,"",258]
[12,"Januš Karel",null,"Česyk",1807,8,225.875,"",252]
[13,"Weiman Petr",null,"Česyk",2910,13,223.84615384615384,"",245]
[14,"Červ Marek",null,"Georeal",2234,10,223.4,"",255]
[15,"Seifert Daniel",null,"Básníci ",3058,14,218.42857142857142,"",252]
[16,"Dvořák David",null,"Benešov D",2395,11,217.72727272727272,"",283]
[17,"Procházka Miroslav",null,"Benešov D",1464,7,209.14285714285714,"",225]
[18,"Kohout Ondřej",null,"Šody",2071,10,207.1,"",226]
[19,"Hypša Martin",null,"Šody",1607,8,200.875,"",228]
[20,"Kešner Martin",null,"Šody",1377,7,196.71428571428572,"",223]
[21,"Vaškovic Luboš",null,"Pohodáři",2163,11,196.63636363636363,"",218]
[22,"Pečenka Jaroslav",null,"Pohodáři",2116,11,192.36363636363637,"",227]
[23,"Pospíšilová Zdeňka",null,"Šody",960,5,192,"",205]
[24,"Pečenková Jana",null,"Pohodáři",1768,10,176.8,"",196]
[25,"Seifertová Daniela",null,"Básníci ",252,1,252,"",252]
[26,"Červ Petr",null,"Georeal",458,2,229,"",247]
[27,"Šmíd Jan",null,"Česyk",662,3,220.66666666666666,"",246]
[28,"Král František",null,"Georeal",870,4,217.5,"",237]
[29,"Střídání",null,"Pohodáři",216,1,216,"",216]
[30,"Střídání",null,"Česyk",212,1,212,"",212]
[31,"Hausenbach Kuba",null,"Šody",177,1,177,"",177]

{"sheet":"1 kolo","index":2,"n_rows":44,"n_cols":52,"rows_kept":44,"cut":false,"hidden":false,"merged":[[35,0,37,0],[35,1,37,1],[35,8,35,10],[35,14,35,16],[35,2,35,4],[35,5,35,7],[41,38,41,40],[38,35,38,37],[41,23,41,25],[41,29,41,31],[38,29,38,31],[38,32,38,34],[41,26,41,28],[41,2,41,4],[41,5,41,7],[41,8,41,10],[41,11,41,13],[41,14,41,16],[41,20,41,22],[41,17,41,19],[41,32,41,34],[41,35,41,37],[32,20,32,22],[29,20,29,22],[29,23,29,25],[29,26,29,28],[32,29,32,31],[32,35,32,37],[38,41,38,43],[38,0,40,0],[38,1,40,1],[38,2,38,4],[38,5,38,7],[38,8,38,10],[38,11,38,13],[38,14,38,16],[35,38,35,40],[35,32,35,34],[35,26,35,28],[35,29,35,31],[38,26,38,28],[35,23,35,25],[35,17,35,19],[38,17,38,19],[38,20,38,22],[38,23,38,25],[32,11,32,13],[32,14,32,16],[32,17,32,19],[35,11,35,13],[35,20,35,22],[35,41,35,43],[29,38,29,40],[26,38,26,40],[26,23,26,25],[26,29,26,31],[26,32,26,34],[26,35,26,37],[29,32,29,34],[29,35,29,37],[29,11,29,13],[29,14,29,16],[26,17,26,19],[26,20,26,22],[29,17,29,19],[32,41,32,43],[29,41,29,43],[32,23,32,25],[32,26,32,28],[32,38,32,40],[32,0,34,0],[32,1,34,1],[32,2,32,4],[32,5,32,7],[32,8,32,10],[29,0,31,0],[29,1,31,1],[29,2,29,4],[29,5,29,7],[29,8,29,10],[23,26,23,28],[23,29,23,31],[23,32,23,34],[23,14,23,16],[23,17,23,19],[23,35,23,37],[23,38,23,40],[23,41,23,43],[26,0,28,0],[26,1,28,1],[26,2,26,4],[26,5,26,7],[26,8,26,10],[26,11,26,13],[26,14,26,16],[26,41,26,43],[23,0,25,0],[23,1,25,1],[23,2,23,4],[23,5,23,7],[20,11,20,13],[20,14,20,16],[23,8,23,10],[23,11,23,13],[23,20,23,22],[17,35,17,37],[17,38,17,40],[17,41,17,43],[20,0,22,0],[20,1,22,1],[20,2,20,4],[20,5,20,7],[20,8,20,10],[20,38,20,40],[20,41,20,43],[20,17,20,19],[20,23,20,25],[20,26,20,28],[20,29,20,31],[20,32,20,34],[20,35,20,37],[17,29,17,31],[17,32,17,34],[17,0,19,0],[17,1,19,1],[17,2,17,4],[17,5,17,7],[17,8,17,10],[17,11,17,13],[17,14,17,16],[17,20,17,22],[17,23,17,25],[17,26,17,28],[14,0,16,0],[14,1,16,1],[14,2,14,4],[14,5,14,7],[14,8,14,10],[14,11,14,13],[14,17,14,19],[14,38,14,40],[14,41,14,43],[14,20,14,22],[14,23,14,25],[14,26,14,28],[14,29,14,31],[14,32,14,34],[14,35,14,37],[11,0,13,0],[11,1,13,1],[11,2,11,4],[11,5,11,7],[11,8,11,10],[11,14,11,16],[8,38,8,40],[8,41,8,43],[8,20,8,22],[8,23,8,25],[8,26,8,28],[8,29,8,31],[8,32,8,34],[8,35,8,37],[11,23,11,25],[11,26,11,28],[11,29,11,31],[11,32,11,34],[11,17,11,19],[11,20,11,22],[11,35,11,37],[11,38,11,40],[11,41,11,43],[5,35,5,37],[5,38,5,40],[5,41,5,43],[8,0,10,0],[8,1,10,1],[8,2,8,4],[8,5,8,7],[8,11,8,13],[8,14,8,16],[8,17,8,19],[5,29,5,31],[5,32,5,34],[5,0,7,0],[5,1,7,1],[5,2,5,4],[5,8,5,10],[5,11,5,13],[5,14,5,16],[5,17,5,19],[5,20,5,22],[5,23,5,25],[5,26,5,28],[2,0,4,0],[2,1,4,1],[2,5,2,7],[2,8,2,10],[2,11,2,13],[2,14,2,16],[2,17,2,19],[2,38,2,40],[2,41,2,43],[2,20,2,22],[2,23,2,25],[2,26,2,28],[2,29,2,31],[2,32,2,34],[2,35,2,37],[0,0,0,46],[1,32,1,34],[1,35,1,37],[1,2,1,4],[1,5,1,7],[1,8,1,10],[1,11,1,13],[1,14,1,16],[1,17,1,19],[1,20,1,22],[1,23,1,25],[1,26,1,28],[1,29,1,31],[1,38,1,40],[1,41,1,43],[1,44,1,46]]}
["Tabulka 1. liga 1 a 2 kolo - Podzimní část"]
["1. Liga 2023 - 2024",null,{"$f":"A3","v":"Básníci "},null,null,{"$f":"A6","v":"Benešov D"},null,null,{"$f":"A9","v":"Česyk"},null,null,{"$f":"A12","v":"Georeal"},null,null,{"$f":"A15","v":"Pohodáři"},null,null,{"$f":"A18","v":"Šody"},null,null,{"$f":"A21","v":0},null,null,{"$f":"A24","v":0},null,null,null,null,null,null,null,null,null,null,null,null,null,null,null,null,null,null,null,null,"Celkem     zápasy / body        skóre"]
[{"$f":"AZ3","v":"Básníci "},null,null,null,null,{"$f":"IF(C6<>\"\",C6,\"\")","v":"2024-01-16"},null,null,{"$f":"IF(C9<>\"\",C9,\"\")","v":"2023-10-10"},null,null,{"$f":"IF(C12<>\"\",C12,\"\")","v":"2023-10-03"},null,null,{"$f":"IF(C15<>\"\",C15,\"\")","v":"2023-09-26"},null,null,{"$f":"IF(C18<>\"\",C18,\"\")","v":"2023-11-07"},null,null,{"$f":"IF(C21<>\"\",C21,\"\")","v":""},null,null,{"$f":"IF(C24<>\"\",C24,\"\")","v":""},null,null,{"$f":"IF(C27<>\"\",C27,\"\")","v":""},null,null,{"$f":"IF($C$30<>\"\",$C$30,\"\")","v":""},null,null,{"$f":"IF($C$33<>\"\",$C$33,\"\")","v":""},null,null,{"$f":"IF($C$36<>\"\",$C$36,\"\")","v":""},null,null,{"$f":"IF($C$39<>\"\",$C$39,\"\")","v":""},null,null,{"$f":"IF($C$42<>\"\",$C$42,\"\")","v":""},null,null,15,null,25,null,null,null,null,"Básníci "]
[null,null,null,null,null,{"$f":"E7","v":4},":",{"$f":"C7","v":4},{"$f":"E10","v":6},":",{"$f":"C10","v":2},{"$f":"E13","v":4},":",{"$f":"C13","v":4},{"$f":"E16","v":8},":",{"$f":"C16","v":0},{"$f":"E19","v":4},":",{"$f":"C19","v":4},{"$f":"E22","v":0},":",{"$f":"C22","v":0},{"$f":"E25","v":0},":",{"$f":"C25","v":0},{"$f":"E28","v":0},":",{"$f":"C28","v":0},{"$f":"E31","v":0},":",{"$f":"C31","v":0},{"$f":"E34","v":0},":",{"$f":"C34","v":0},{"$f":"E37","v":0},":",{"$f":"C37","v":0},{"$f":"E40","v":0},":",{"$f":"C40","v":0},{"$f":"E43","v":0},":",{"$f":"C43","v":0},87,":",33]
[null,null,null,null,null,{"$f":"E8","v":706},":",{"$f":"C8","v":678},{"$f":"E11","v":741},":",{"$f":"C11","v":723},{"$f":"E14","v":696},":",{"$f":"C14","v":697},{"$f":"E17","v":697},":",{"$f":"C17","v":540},{"$f":"E20","v":693},":",{"$f":"C20","v":667},{"$f":"E23","v":0},":",{"$f":"C23","v":0},{"$f":"E26","v":0},":",{"$f":"C26","v":0},{"$f":"E29","v":0},":",{"$f":"C29","v":0},{"$f":"E32","v":0},":",{"$f":"C32","v":0},{"$f":"E35","v":0},":",{"$f":"C35","v":0},{"$f":"E38","v":0},":",{"$f":"C38","v":0},{"$f":"E41","v":0},":",{"$f":"C41","v":0},{"$f":"E44","v":0},":",{"$f":"C44","v":0},10598,":",9688]
[{"$f":"AZ6","v":"Benešov D"},null,"2024-01-16",null,null,null,null,null,{"$f":"IF(F9<>\"\",F9,\"\")","v":"2023-11-07"},null,null,{"$f":"IF(F12<>\"\",F12,\"\")","v":"2023-10-17"},null,null,{"$f":"IF(F15<>\"\",F15,\"\")","v":"2023-10-10"},null,null,{"$f":"IF(F18<>\"\",F18,\"\")","v":"2023-10-03"},null,null,{"$f":"IF(F21<>\"\",F21,\"\")","v":""},null,null,{"$f":"IF(F24<>\"\",F24,\"\")","v":""},null,null,{"$f":"IF(F27<>\"\",F27,\"\")","v":""},null,null,{"$f":"IF($F$30<>\"\",$F$30,\"\")","v":""},null,null,{"$f":"IF($F$33<>\"\",$F$33,\"\")","v":""},null,null,{"$f":"IF($F$36<>\"\",$F$36,\"\")","v":""},null,null,{"$f":"IF($F$39<>\"\",$F$39,\"\")","v":""},null,null,{"$f":"IF($F$42<>\"\",$F$3943,\"\")","v":""},null,null,14,null,15,null,null,null,null,"Benešov D"]
[null,null,4,":",4,null,null,null,{"$f":"H10","v":4},":",{"$f":"F10","v":4},{"$f":"H13","v":0},":",{"$f":"F13","v":8},{"$f":"H16","v":6},":",{"$f":"F16","v":2},{"$f":"H19","v":4},":",{"$f":"F19","v":4},{"$f":"H22","v":0},":",{"$f":"F22","v":0},{"$f":"H25","v":0},":",{"$f":"F25","v":0},{"$f":"H28","v":0},":",{"$f":"F28","v":0},{"$f":"H31","v":0},":",{"$f":"F31","v":0},{"$f":"H34","v":0},":",{"$f":"F34","v":0},{"$f":"H37","v":0},":",{"$f":"F37","v":0},{"$f":"$H40","v":0},":",{"$f":"$F40","v":0},{"$f":"$H43","v":0},":",{"$f":"$F43","v":0},59,":",61]
[null,null,678,":",706,null,null,null,{"$f":"H11","v":720},":",{"$f":"F11","v":712},{"$f":"H14","v":640},":",{"$f":"F14","v":711},{"$f":"H17","v":640},":",{"$f":"F17","v":604},{"$f":"H20","v":655},":",{"$f":"F20","v":659},{"$f":"H23","v":0},":",{"$f":"F23","v":0},{"$f":"H26","v":0},":",{"$f":"F26","v":0},{"$f":"H29","v":0},":",{"$f":"F29","v":0},{"$f":"H32","v":0},":",{"$f":"F32","v":0},{"$f":"H35","v":0},":",{"$f":"F35","v":0},{"$f":"H38","v":0},":",{"$f":"F38","v":0},{"$f":"$H41","v":0},":",{"$f":"$F41","v":0},{"$f":"$H44","v":0},":",{"$f":"$F44","v":0},9382,":",9399]
[{"$f":"AZ9","v":"Česyk"},null,"2023-10-10",null,null,"2023-11-07",null,null,null,null,null,{"$f":"IF(I12<>\"\",I12,\"\")","v":"2023-09-26"},null,null,{"$f":"IF(I15<>\"\",I15,\"\")","v":"2023-09-19"},null,null,{"$f":"IF(I18<>\"\",I18,\"\")","v":"2023-10-31"},null,null,{"$f":"IF(I21<>\"\",I21,\"\")","v":""},null,null,{"$f":"IF(I24<>\"\",I24,\"\")","v":""},null,null,{"$f":"IF(I27<>\"\",I27,\"\")","v":""},null,null,{"$f":"IF($I$30<>\"\",$I$30,\"\")","v":""},null,null,{"$f":"IF($I$33<>\"\",$I$33,\"\")","v":""},null,null,{"$f":"IF($I$36<>\"\",$I$36,\"\")","v":""},null,null,{"$f":"IF($I$39<>\"\",$I$39,\"\")","v":""},null,null,{"$f":"IF($I$42<>\"\",$I$42,\"\")","v":""},null,null,15,null,21,null,null,null,null,"Česyk"]
[null,null,2,":",6,4,":",4,null,null,null,{"$f":"K13","v":8},":",{"$f":"I13","v":0},{"$f":"K16","v":8},":",{"$f":"I16","v":0},{"$f":"K19","v":4},":",{"$f":"I19","v":4},{"$f":"K22","v":0},":",{"$f":"I22","v":0},{"$f":"K25","v":0},":",{"$f":"I25","v":0},{"$f":"K28","v":0},":",{"$f":"I28","v":0},{"$f":"K31","v":0},":",{"$f":"I31","v":0},{"$f":"K34","v":0},":",{"$f":"I34","v":0},{"$f":"K37","v":0},":",{"$f":"I37","v":0},{"$f":"K40","v":0},":",{"$f":"I40","v":0},{"$f":"$K$43","v":0},":",{"$f":"$I$43","v":0},80,":",40]
[null,null,723,":",741,712,":",720,null,null,null,{"$f":"K14","v":719},":",{"$f":"I14","v":688},{"$f":"K17","v":703},":",{"$f":"I17","v":574},{"$f":"K20","v":715},":",{"$f":"I20","v":702},{"$f":"K23","v":0},":",{"$f":"I23","v":0},{"$f":"K26","v":0},":",{"$f":"I26","v":0},{"$f":"K29","v":0},":",{"$f":"I29","v":0},{"$f":"K32","v":0},":",{"$f":"I32","v":0},{"$f":"K35","v":0},":",{"$f":"I35","v":0},{"$f":"K38","v":0},":",{"$f":"I38","v":0},{"$f":"K41","v":0},":",{"$f":"I41","v":0},{"$f":"$K$44","v":0},":",{"$f":"$I$44","v":0},10565,":",10080]
[{"$f":"AZ12","v":"Georeal"},null,"2023-10-03",null,null,"2023-10-17",null,null,"2023-09-26",null,null,null,null,null,{"$f":"IF(L15<>\"\",L15,\"\")","v":"2023-12-05"},null,null,{"$f":"IF(L18<>\"\",L18,\"\")","v":"2023-10-24"},null,null,{"$f":"IF(L21<>\"\",L21,\"\")","v":""},null,null,{"$f":"IF(L24<>\"\",L24,\"\")","v":""},null,null,{"$f":"IF(L27<>\"\",L27,\"\")","v":""},null,null,{"$f":"IF($L$30<>\"\",$L$30,\"\")","v":""},null,null,{"$f":"IF($L$33<>\"\",$L$33,\"\")","v":""},null,null,{"$f":"IF($L$36<>\"\",$L$36,\"\")","v":""},null,null,{"$f":"IF($L$39<>\"\",$L$39,\"\")","v":""},null,null,{"$f":"IF($L$42<>\"\",$L$42,\"\")","v":""},null,null,14,null,16,null,null,null,null,"Georeal"]
[null,null,4,":",4,8,":",0,0,":",8,null,null,null,{"$f":"N16","v":6},":",{"$f":"L16","v":2},{"$f":"N19","v":6},":",{"$f":"L19","v":2},{"$f":"N22","v":0},":",{"$f":"L22","v":0},{"$f":"N25","v":0},":",{"$f":"L25","v":0},{"$f":"N28","v":0},":",{"$f":"L28","v":0},{"$f":"N31","v":0},":",{"$f":"L31","v":0},{"$f":"N34","v":0},":",{"$f":"L34","v":0},{"$f":"N37","v":0},":",{"$f":"L37","v":0},{"$f":"N40","v":0},":",{"$f":"L40","v":0},{"$f":"$N$43","v":0},":",{"$f":"$L$43","v":0},63,":",49]
[null,null,697,":",696,711,":",640,688,":",719,null,null,null,{"$f":"N17","v":700},":",{"$f":"L17","v":625},{"$f":"N20","v":699},":",{"$f":"L20","v":637},{"$f":"N23","v":0},":",{"$f":"L23","v":0},{"$f":"N26","v":0},":",{"$f":"L26","v":0},{"$f":"N29","v":0},":",{"$f":"L29","v":0},{"$f":"N32","v":0},":",{"$f":"L32","v":0},{"$f":"N35","v":0},":",{"$f":"L35","v":0},{"$f":"N38","v":0},":",{"$f":"L38","v":0},{"$f":"N41","v":0},":",{"$f":"L41","v":0},{"$f":"$N$44","v":0},":",{"$f":"$L$44","v":0},9769,":",9523]
[{"$f":"AZ15","v":"Pohodáři"},null,"2023-09-26",null,null,"2023-10-10",null,null,"2023-09-19",null,null,"2023-12-05",null,null,null,null,null,{"$f":"IF(O18<>\"\",O18,\"\")","v":"2023-10-17"},null,null,{"$f":"IF(O21<>\"\",O21,\"\")","v":""},null,null,{"$f":"IF(O24<>\"\",O24,\"\")","v":""},null,null,{"$f":"IF(O27<>\"\",O27,\"\")","v":""},null,null,{"$f":"IF($O$30<>\"\",$O$30,\"\")","v":""},null,null,{"$f":"IF($O$33<>\"\",$O$33,\"\")","v":""},null,null,{"$f":"IF($O$36<>\"\",$O$36,\"\")","v":""},null,null,{"$f":"IF($O$39<>\"\",$O$39,\"\")","v":""},null,null,{"$f":"IF($O$42<>\"\",$O$42,\"\")","v":""},null,null,14,null,2,null,null,null,null,"Pohodáři"]
[null,null,0,":",8,2,":",6,0,":",8,2,":",6,null,null,null,{"$f":"Q19","v":8},":",{"$f":"O19","v":0},{"$f":"Q22","v":0},":",{"$f":"O22","v":0},{"$f":"Q25","v":0},":",{"$f":"O25","v":0},{"$f":"Q28","v":0},":",{"$f":"O28","v":0},{"$f":"Q31","v":0},":",{"$f":"O31","v":0},{"$f":"Q34","v":0},":",{"$f":"O34","v":0},{"$f":"Q37","v":0},":",{"$f":"O37","v":0},{"$f":"Q40","v":0},":",{"$f":"O40","v":0},{"$f":"$Q$43","v":0},":",{"$f":"$O$43","v":0},22,":",90]
[null,null,540,":",697,604,":",640,574,":",703,625,":",700,null,null,null,{"$f":"Q20","v":607},":",{"$f":"O20","v":526},{"$f":"Q23","v":0},":",{"$f":"O23","v":0},{"$f":"Q26","v":0},":",{"$f":"O26","v":0},{"$f":"Q29","v":0},":",{"$f":"O29","v":0},{"$f":"Q32","v":0},":",{"$f":"O32","v":0},{"$f":"Q35","v":0},":",{"$f":"O35","v":0},{"$f":"Q38","v":0},":",{"$f":"O38","v":0},{"$f":"Q41","v":0},":",{"$f":"O41","v":0},{"$f":"$Q$44","v":0},":",{"$f":"$O$44","v":0},8410,":",9484]
[{"$f":"AZ18","v":"Šody"},null,"2023-11-07",null,null,"2023-10-03",null,null,"2023-10-31",null,null,"2023-10-24",null,null,"2023-10-17",null,null,null,null,null,{"$f":"IF(R21<>\"\",R21,\"\")","v":""},null,null,{"$f":"IF(R24<>\"\",R24,\"\")","v":""},null,null,{"$f":"IF(R27<>\"\",R27,\"\")","v":""},null,null,{"$f":"IF($R$30<>\"\",$R$30,\"\")","v":""},null,null,{"$f":"IF($R$33<>\"\",$R$33,\"\")","v":""},null,null,{"$f":"IF($R$36<>\"\",$R$36,\"\")","v":""},null,null,{"$f":"IF($R$39<>\"\",$R$39,\"\")","v":""},null,null,{"$f":"IF($R$42<>\"\",$R$42,\"\")","v":""},null,null,14,null,9,null,null,null,null,"Šody"]
[null,null,4,":",4,4,":",4,4,":",4,2,":",6,0,":",8,null,null,null,{"$f":"T22","v":0},":",{"$f":"R22","v":0},{"$f":"T25","v":0},":",{"$f":"R25","v":0},{"$f":"T28","v":0},":",{"$f":"R28","v":0},{"$f":"T31","v":0},":",{"$f":"R31","v":0},{"$f":"T34","v":0},":",{"$f":"R34","v":0},{"$f":"T37","v":0},":",{"$f":"R37","v":0},{"$f":"T40","v":0},":",{"$f":"R40","v":0},{"$f":"$T$43","v":0},":",{"$f":"$R$43","v":0},41,":",79]
[null,null,667,":",693,659,":",655,702,":",715,637,":",699,526,":",607,null,null,null,{"$f":"T23","v":0},":",{"$f":"R23","v":0},{"$f":"T26","v":0},":",{"$f":"R26","v":0},{"$f":"T29","v":0},":",{"$f":"R29","v":0},{"$f":"T32","v":0},":",{"$f":"R32","v":0},{"$f":"T35","v":0},":",{"$f":"R35","v":0},{"$f":"T38","v":0},":",{"$f":"R38","v":0},{"$f":"T41","v":0},":",{"$f":"R41","v":0},{"$f":"$T$44","v":0},":",{"$f":"$R$44","v":0},8802,":",9352]
[null,null,null,null,null,null,null,null,null,null,null,null,null,null,null,null,null,null,null,null,null,null,null,{"$f":"IF(U24<>\"\",U24,\"\")","v":""},null,null,{"$f":"IF(U27<>\"\",U27,\"\")","v":""},null,null,{"$f":"IF($U$30<>\"\",$U$30,\"\")","v":""},null,null,{"$f":"IF($U$33<>\"\",$U$33,\"\")","v":""},null,null,{"$f":"IF($U$36<>\"\",$U$36,\"\")","v":""},null,null,{"$f":"IF($U$39<>\"\",$U$39,\"\")","v":""},null,null,{"$f":"IF($U$42<>\"\",$U$42,\"\")","v":""},null,null,0,null,0]
[null,null,null,null,null,null,null,null,null,null,null,null,null,null,null,null,null,null,":",null,null,null,null,{"$f":"W25","v":0},":",{"$f":"U25","v":0},{"$f":"W28","v":0},":",{"$f":"U28","v":0},{"$f":"W31","v":0},":",{"$f":"U31","v":0},{"$f":"W34","v":0},":",{"$f":"U34","v":0},{"$f":"W37","v":0},":",{"$f":"U37","v":0},{"$f":"W40","v":0},":",{"$f":"U40","v":0},{"$f":"$W$43","v":0},":",{"$f":"$U$43","v":0},0,":",0]
[null,null,null,null,null,null,null,null,null,null,null,null,null,null,null,null,null,null,":",null,null,null,null,{"$f":"W26","v":0},":",{"$f":"U26","v":0},{"$f":"W29","v":0},":",{"$f":"U29","v":0},{"$f":"W32","v":0},":",{"$f":"U32","v":0},{"$f":"W35","v":0},":",{"$f":"U35","v":0},{"$f":"W38","v":0},":",{"$f":"U38","v":0},{"$f":"W41","v":0},":",{"$f":"U41","v":0},{"$f":"$W$44","v":0},":",{"$f":"$W$44","v":0},0,":",0]
[null,null,null,null,null,null,null,null,null,null,null,null,null,null,null,null,null,null,null,null,null,null,null,null,null,null,{"$f":"IF(X27<>\"\",X27,\"\")","v":""},null,null,{"$f":"IF($X$30<>\"\",$X$30,\"\")","v":""},null,null,{"$f":"IF($X$33<>\"\",$X$33,\"\")","v":""},null,null,{"$f":"IF($X$36<>\"\",$X$36,\"\")","v":""},null,null,{"$f":"IF($X$39<>\"\",$X$39,\"\")","v":""},null,null,{"$f":"IF($X$42<>\"\",$X$42,\"\")","v":""},null,null,0,null,0]
[null,null,null,null,null,null,null,null,null,null,null,null,null,null,null,null,null,null,":",null,null,null,null,null,null,null,{"$f":"Z28","v":0},":",{"$f":"X28","v":0},{"$f":"Z31","v":0},":",{"$f":"X31","v":0},{"$f":"Z34","v":0},":",{"$f":"X34","v":0},{"$f":"Z37","v":0},":",{"$f":"X37","v":0},{"$f":"Z40","v":0},":",{"$f":"X40","v":0},{"$f":"$Z$43","v":0},":",{"$f":"$X$43","v":0},0,":",0]
[null,null,null,null,null,null,null,null,null,null,null,null,null,null,null,null,null,null,":",null,null,null,null,null,null,null,{"$f":"Z29","v":0},":",{"$f":"X29","v":0},{"$f":"Z32","v":0},":",{"$f":"X32","v":0},{"$f":"Z35","v":0},":",{"$f":"X35","v":0},{"$f":"Z38","v":0},":",{"$f":"X38","v":0},{"$f":"Z41","v":0},":",{"$f":"X41","v":0},{"$f":"$Z$44","v":0},":",{"$f":"$X$44","v":0},0,":",0]
[null,null,null,null,null,null,null,null,null,null,null,null,null,null,null,null,null,null,null,null,null,null,null,null,null,null,null,null,null,{"$f":"IF($AA$30<>\"\",$AA$30,\"\")","v":""},null,null,{"$f":"IF($AA$33<>\"\",$AA$33,\"\")","v":""},null,null,{"$f":"IF($AA$36<>\"\",$AA$36,\"\")","v":""},null,null,{"$f":"IF($AA$39<>\"\",$AA$39,\"\")","v":""},null,null,{"$f":"IF($AA42<>\"\",$AA$42,\"\")","v":""},null,null,0,null,0]
[null,null,null,":",null,null,":",null,null,null,null,null,null,null,null,null,null,null,null,null,null,null,null,null,null,null,null,null,null,{"$f":"AC31","v":0},":",{"$f":"AA31","v":0},{"$f":"AC34","v":0},":",{"$f":"AA34","v":0},{"$f":"AC37","v":0},":",{"$f":"AA37","v":0},{"$f":"AC40","v":0},":",{"$f":"AA40","v":0},{"$f":"$AC$43","v":0},":",{"$f":"$AA$43","v":0},0,":",0]
[null,null,null,":",null,null,":",null,null,null,null,null,null,null,null,null,null,null,null,null,null,null,null,null,null,null,null,null,null,{"$f":"AC32","v":0},":",{"$f":"AA32","v":0},{"$f":"AC35","v":0},":",{"$f":"AA35","v":0},{"$f":"AC38","v":0},":",{"$f":"AA38","v":0},{"$f":"AC41","v":0},":",{"$f":"AA41","v":0},{"$f":"$AC$44","v":0},":",{"$f":"$AA$44","v":0},0,":",0]
["Česyk",null,null,null,null,null,null,null,null,null,null,null,null,null,null,null,null,null,null,null,null,null,null,null,null,null,null,null,null,null,null,null,{"$f":"IF($AD$33<>\"\",$AD$33,\"\")","v":""},null,null,{"$f":"IF($AD$36<>\"\",$AD$36,\"\")","v":""},null,null,{"$f":"IF($AD$39<>\"\",$AD$39,\"\")","v":""},null,null,{"$f":"IF($AD$42<>\"\",$AD$42,\"\")","v":""},null,null,0,null,0]
[null,null,null,null,null,null,null,null,null,null,null,null,null,null,null,null,null,null,null,null,null,null,null,null,null,null,null,null,null,null,null,null,{"$f":"AF34","v":0},":",{"$f":"AD34","v":0},{"$f":"AF37","v":0},":",{"$f":"AD37","v":0},{"$f":"AF40","v":0},":",{"$f":"AD40","v":0},{"$f":"$AF$43","v":0},":",{"$f":"$AD$43","v":0},0,":",0]
[null,null,null,null,null,null,null,null,null,null,null,null,null,null,null,null,null,null,null,null,null,null,null,null,null,null,null,null,null,null,null,null,{"$f":"AF35","v":0},":",{"$f":"AD35","v":0},{"$f":"AF38","v":0},":",{"$f":"AD38","v":0},{"$f":"AF41","v":0},":",{"$f":"AD41","v":0},{"$f":"$AF$44","v":0},":",{"$f":"$AD$44","v":0},0,":",0]
["Přibyšice",null,null,null,null,null,null,null,null,null,null,null,null,null,null,null,null,null,null,null,null,null,null,null,null,null,null,null,null,null,null,null,null,null,null,{"$f":"IF($AG$36<>\"\",$AG$36,\"\")","v":""},null,null,{"$f":"IF($AG$39<>\"\",$AG$39,\"\")","v":""},null,null,{"$f":"IF($AG$42<>\"\",$AG$42,\"\")","v":""},null,null,0,null,0]
[null,null,null,null,null,null,null,null,null,null,null,null,null,null,null,null,null,null,null,null,null,null,null,null,null,null,null,null,null,null,null,null,null,null,null,{"$f":"AI37","v":0},":",{"$f":"AG37","v":0},{"$f":"AI40","v":0},":",{"$f":"AG40","v":0},{"$f":"$AI$43","v":0},":",{"$f":"$AG$43","v":0},0,":",0]
[null,null,null,null,null,null,null,null,null,null,null,null,null,null,null,null,null,null,null,null,null,null,null,null,null,null,null,null,null,null,null,null,null,null,null,{"$f":"AI38","v":0},":",{"$f":"AG38","v":0},{"$f":"AI41","v":0},":",{"$f":"AG41","v":0},{"$f":"$AI$44","v":0},":",{"$f":"$AG$44","v":0},0,":",0]
["K3",null,null,null,null,null,null,null,null,null,null,null,null,null,null,null,null,null,null,null,null,null,null,null,null,null,null,null,null,null,null,null,null,null,null,null,null,null,{"$f":"IF($AJ$39<>\"\",$AJ$39,\"\")","v":""},null,null,{"$f":"IF($AJ$42<>\"\",$AJ$42,\"\")","v":""},null,null,0,null,0]
[null,null,null,null,null,null,null,null,null,null,null,null,null,null,null,null,null,null,null,null,null,null,null,null,null,null,null,null,null,null,null,null,null,null,null,null,null,null,{"$f":"AL40","v":0},":",{"$f":"AJ40","v":0},{"$f":"$AL$43","v":0},":",{"$f":"$AJ$43","v":0},0,":",0]
[null,null,null,null,null,null,null,null,null,null,null,null,null,null,null,null,null,null,null,null,null,null,null,null,null,null,null,null,null,null,null,null,null,null,null,null,null,null,{"$f":"AL41","v":0},":",{"$f":"AJ41","v":0},{"$f":"$AL$44","v":0},":",{"$f":"$AJ$44","v":0},0,":",0]
[null,null,null,null,null,null,null,null,null,null,null,null,null,null,null,null,null,null,null,null,null,null,null,null,null,null,null,null,null,null,null,null,null,null,null,null,null,null,null,null,null,{"$f":"IF($AM$42<>\"\",$AM$42,\"\")","v":""},null,null,0,null,0]
[null,null,null,null,null,null,null,null,null,null,null,null,null,null,null,null,null,null,null,null,null,null,null,null,null,null,null,null,null,null,null,null,null,null,null,null,null,null,null,null,null,{"$f":"$AO$43","v":0},":",{"$f":"$AM$43","v":0},0,":",0]
[null,null,null,null,null,null,null,null,null,null,null,null,null,null,null,null,null,null,null,null,null,null,null,null,null,null,null,null,null,null,null,null,null,null,null,null,null,null,null,null,null,{"$f":"$AO$44","v":0},":",{"$f":"$AM$44","v":0},0,":",0]
[null,null,null,null,null,null,null,null,null,null,null,null,null,null,null,null,null,null,null,null,null,null,null,null,null,null,null,null,null,null,null,null,null,null,null,null,null,null,null,null,null,null,null,null,0,null,0]
[null,null,null,":",null,null,":",null,null,":",null,null,":",null,null,":",null,null,":",null,null,":",null,null,":",null,null,":",null,null,":",null,null,":",null,null,":",null,null,":",null,null,null,null,0,":",0]
[null,null,null,":",null,null,":",null,null,":",null,null,":",null,null,":",null,null,":",null,null,":",null,null,":",null,null,":",null,null,":",null,null,":",null,null,":",null,null,":",null,null,null,null,0,":",0]

{"sheet":"2 kolo","index":3,"n_rows":44,"n_cols":47,"rows_kept":44,"cut":false,"hidden":false,"merged":[[41,23,41,25],[41,26,41,28],[41,29,41,31],[41,32,41,34],[41,35,41,37],[41,38,41,40],[38,32,38,34],[38,35,38,37],[38,41,38,43],[38,23,38,25],[38,26,38,28],[38,29,38,31],[41,2,41,4],[41,5,41,7],[41,8,41,10],[41,11,41,13],[41,14,41,16],[41,17,41,19],[41,20,41,22],[38,14,38,16],[38,17,38,19],[38,20,38,22],[38,0,40,0],[38,1,40,1],[38,2,38,4],[38,5,38,7],[38,8,38,10],[38,11,38,13],[35,23,35,25],[35,26,35,28],[35,29,35,31],[35,0,37,0],[35,1,37,1],[35,2,35,4],[35,5,35,7],[35,8,35,10],[35,11,35,13],[35,14,35,16],[35,17,35,19],[35,20,35,22],[35,32,35,34],[35,38,35,40],[35,41,35,43],[32,41,32,43],[32,20,32,22],[32,23,32,25],[32,26,32,28],[32,29,32,31],[32,35,32,37],[32,38,32,40],[26,8,26,10],[26,11,26,13],[29,38,29,40],[29,41,29,43],[32,0,34,0],[32,1,34,1],[32,2,32,4],[32,5,32,7],[32,8,32,10],[32,11,32,13],[32,14,32,16],[32,17,32,19],[29,17,29,19],[29,20,29,22],[29,23,29,25],[29,26,29,28],[29,32,29,34],[29,35,29,37],[20,2,20,4],[20,5,20,7],[20,8,20,10],[20,11,20,13],[26,35,26,37],[26,38,26,40],[26,41,26,43],[29,0,31,0],[29,1,31,1],[29,2,29,4],[29,5,29,7],[29,8,29,10],[29,11,29,13],[29,14,29,16],[26,14,26,16],[26,17,26,19],[26,20,26,22],[26,23,26,25],[26,29,26,31],[26,32,26,34],[26,0,28,0],[26,1,28,1],[26,2,26,4],[26,5,26,7],[23,26,23,28],[23,29,23,31],[23,32,23,34],[23,35,23,37],[23,38,23,40],[23,41,23,43],[20,41,20,43],[23,0,25,0],[23,1,25,1],[23,2,23,4],[23,5,23,7],[23,8,23,10],[23,11,23,13],[23,14,23,16],[23,17,23,19],[23,20,23,22],[20,23,20,25],[20,26,20,28],[20,29,20,31],[20,32,20,34],[20,35,20,37],[20,38,20,40],[20,0,22,0],[20,1,22,1],[14,0,16,0],[14,1,16,1],[14,2,14,4],[14,5,14,7],[14,8,14,10],[17,23,17,25],[17,26,17,28],[17,29,17,31],[17,32,17,34],[8,32,8,34],[8,35,8,37],[8,38,8,40],[8,0,10,0],[8,1,10,1],[8,2,8,4],[20,14,20,16],[20,17,20,19],[17,20,17,22],[14,35,14,37],[14,38,14,40],[17,0,19,0],[17,1,19,1],[17,2,17,4],[17,5,17,7],[17,8,17,10],[17,11,17,13],[17,14,17,16],[14,17,14,19],[14,20,14,22],[14,23,14,25],[14,26,14,28],[14,29,14,31],[14,32,14,34],[11,0,13,0],[11,1,13,1],[11,2,11,4],[11,5,11,7],[11,8,11,10],[11,14,11,16],[11,17,11,19],[11,20,11,22],[11,23,11,25],[11,26,11,28],[11,29,11,31],[11,32,11,34],[11,35,11,37],[14,11,14,13],[17,38,17,40],[17,41,17,43],[11,38,11,40],[11,41,11,43],[14,41,14,43],[17,35,17,37],[8,5,8,7],[8,11,8,13],[8,14,8,16],[8,17,8,19],[8,20,8,22],[5,20,5,22],[2,35,2,37],[2,38,2,40],[2,41,2,43],[2,23,2,25],[2,26,2,28],[2,29,2,31],[2,32,2,34],[5,38,5,40],[5,41,5,43],[5,23,5,25],[5,26,5,28],[5,29,5,31],[5,32,5,34],[5,35,5,37],[8,41,8,43],[8,23,8,25],[8,26,8,28],[8,29,8,31],[5,0,7,0],[5,1,7,1],[5,2,5,4],[5,8,5,10],[5,11,5,13],[5,14,5,16],[5,17,5,19],[2,17,2,19],[2,20,2,22],[2,0,4,0],[2,1,4,1],[2,5,2,7],[2,8,2,10],[2,11,2,13],[2,14,2,16],[1,29,1,31],[1,32,1,34],[1,35,1,37],[1,38,1,40],[1,41,1,43],[1,44,1,46],[0,0,0,46],[1,2,1,4],[1,5,1,7],[1,8,1,10],[1,11,1,13],[1,14,1,16],[1,17,1,19],[1,20,1,22],[1,23,1,25],[1,26,1,28]]}
["Tabulka 1. liga 2 kolo - Jarní část"]
["1. Liga 2022 - 2023",null,{"$f":"A3","v":"Básníci "},null,null,{"$f":"A6","v":"Benešov D"},null,null,{"$f":"A9","v":"Česyk"},null,null,{"$f":"A12","v":"Georeal"},null,null,{"$f":"A15","v":"Pohodáři"},null,null,{"$f":"A18","v":"Šody"},null,null,{"$f":"A21","v":0},null,null,{"$f":"A24","v":0},null,null,null,null,null,{"$f":"A30","v":"Česyk"},null,null,{"$f":"A33","v":"Přibyšice"},null,null,{"$f":"A36","v":"K3"},null,null,{"$f":"A39","v":0},null,null,{"$f":"A42","v":0},null,null,"Celkem     zápasy / body        skóre"]
[{"$f":"'1 kolo'!A3","v":"Básníci "},null,null,null,null,{"$f":"IF(C6<>\"\",C6,\"\")","v":"2024-01-23"},null,null,{"$f":"IF(C9<>\"\",C9,\"\")","v":"2023-12-05"},null,null,{"$f":"IF(C12<>\"\",C12,\"\")","v":"2023-11-28"},null,null,{"$f":"IF(C15<>\"\",C15,\"\")","v":"2023-11-21"},null,null,{"$f":"IF(C18<>\"\",C18,\"\")","v":"2024-01-30"},null,null,{"$f":"IF(C21<>\"\",C21,\"\")","v":""},null,null,{"$f":"IF(C24<>\"\",C24,\"\")","v":""},null,null,{"$f":"IF(C27<>\"\",C27,\"\")","v":""},null,null,{"$f":"IF($C$30<>\"\",$C$30,\"\")","v":""},null,null,{"$f":"IF($C$33<>\"\",$C$33,\"\")","v":""},null,null,{"$f":"IF($C$36<>\"\",$C$36,\"\")","v":""},null,null,{"$f":"IF($C$39<>\"\",$C$39,\"\")","v":""},null,null,{"$f":"IF($C$42<>\"\",$C$42,\"\")","v":""},null,null,5,null,9]
[null,null,null,null,null,{"$f":"E7","v":6},":",{"$f":"C7","v":2},{"$f":"E10","v":4},":",{"$f":"C10","v":4},{"$f":"E13","v":8},":",{"$f":"C13","v":0},{"$f":"E16","v":6},":",{"$f":"C16","v":2},{"$f":"E19","v":7},":",{"$f":"C19","v":1},{"$f":"E22","v":0},":",{"$f":"C22","v":0},{"$f":"E25","v":0},":",{"$f":"C25","v":0},{"$f":"E28","v":0},":",{"$f":"C28","v":0},{"$f":"E31","v":0},":",{"$f":"C31","v":0},{"$f":"E34","v":0},":",{"$f":"C34","v":0},{"$f":"E37","v":0},":",{"$f":"C37","v":0},{"$f":"E40","v":0},":",{"$f":"C40","v":0},{"$f":"E43","v":0},":",{"$f":"C43","v":0},31,":",9]
[null,null,null,null,null,{"$f":"E8","v":680},":",{"$f":"C8","v":638},{"$f":"E11","v":711},":",{"$f":"C11","v":696},{"$f":"E14","v":752},":",{"$f":"C14","v":662},{"$f":"E17","v":702},":",{"$f":"C17","v":618},{"$f":"E20","v":682},":",{"$f":"C20","v":631},{"$f":"E23","v":0},":",{"$f":"C23","v":0},{"$f":"E26","v":0},":",{"$f":"C26","v":0},{"$f":"E29","v":0},":",{"$f":"C29","v":0},{"$f":"E32","v":0},":",{"$f":"C32","v":0},{"$f":"E35","v":0},":",{"$f":"C35","v":0},{"$f":"E38","v":0},":",{"$f":"C38","v":0},{"$f":"E41","v":0},":",{"$f":"C41","v":0},{"$f":"E44","v":0},":",{"$f":"C44","v":0},3527,":",3245]
[{"$f":"'1 kolo'!A6","v":"Benešov D"},null,"2024-01-23",null,null,null,null,null,{"$f":"IF(F9<>\"\",F9,\"\")","v":"2024-01-09"},null,null,{"$f":"IF(F12<>\"\",F12,\"\")","v":"2024-02-27"},null,null,{"$f":"IF(F15<>\"\",F15,\"\")","v":"2024-01-25"},null,null,{"$f":"IF(F18<>\"\",F18,\"\")","v":"2023-11-28"},null,null,{"$f":"IF(F21<>\"\",F21,\"\")","v":""},null,null,{"$f":"IF(F24<>\"\",F24,\"\")","v":""},null,null,{"$f":"IF(F27<>\"\",F27,\"\")","v":""},null,null,{"$f":"IF($F$30<>\"\",$F$30,\"\")","v":""},null,null,{"$f":"IF($F$33<>\"\",$F$33,\"\")","v":""},null,null,{"$f":"IF($F$36<>\"\",$F$36,\"\")","v":""},null,null,{"$f":"IF($F$39<>\"\",$F$39,\"\")","v":""},null,null,{"$f":"IF($F$42<>\"\",$F$3943,\"\")","v":""},null,null,5,null,6]
[null,null,2,":",6,null,null,null,{"$f":"H10","v":4},":",{"$f":"F10","v":4},{"$f":"H13","v":4},":",{"$f":"F13","v":4},{"$f":"H16","v":6},":",{"$f":"F16","v":2},{"$f":"H19","v":8},":",{"$f":"F19","v":0},{"$f":"H22","v":0},":",{"$f":"F22","v":0},{"$f":"H25","v":0},":",{"$f":"F25","v":0},{"$f":"H28","v":0},":",{"$f":"F28","v":0},{"$f":"H31","v":0},":",{"$f":"F31","v":0},{"$f":"H34","v":0},":",{"$f":"F34","v":0},{"$f":"H37","v":0},":",{"$f":"F37","v":0},{"$f":"$H40","v":0},":",{"$f":"$F40","v":0},{"$f":"$H43","v":0},":",{"$f":"$F43","v":0},24,":",16]
[null,null,638,":",680,null,null,null,{"$f":"H11","v":694},":",{"$f":"F11","v":700},{"$f":"H14","v":704},":",{"$f":"F14","v":711},{"$f":"H17","v":644},":",{"$f":"F17","v":589},{"$f":"H20","v":670},":",{"$f":"F20","v":596},{"$f":"H23","v":0},":",{"$f":"F23","v":0},{"$f":"H26","v":0},":",{"$f":"F26","v":0},{"$f":"H29","v":0},":",{"$f":"F29","v":0},{"$f":"H32","v":0},":",{"$f":"F32","v":0},{"$f":"H35","v":0},":",{"$f":"F35","v":0},{"$f":"H38","v":0},":",{"$f":"F38","v":0},{"$f":"$H41","v":0},":",{"$f":"$F41","v":0},{"$f":"$H44","v":0},":",{"$f":"$F44","v":0},3350,":",3276]
[{"$f":"'1 kolo'!A9","v":"Česyk"},null,"2023-12-05",null,null,"2024-01-09",null,null,null,null,null,{"$f":"IF(I12<>\"\",I12,\"\")","v":"2023-11-21"},null,null,{"$f":"IF(I15<>\"\",I15,\"\")","v":"2023-11-14"},null,null,{"$f":"IF(I18<>\"\",I18,\"\")","v":"2024-01-16"},null,null,{"$f":"IF(I21<>\"\",I21,\"\")","v":""},null,null,{"$f":"IF(I24<>\"\",I24,\"\")","v":""},null,null,{"$f":"IF(I27<>\"\",I27,\"\")","v":""},null,null,{"$f":"IF($I$30<>\"\",$I$30,\"\")","v":""},null,null,{"$f":"IF($I$33<>\"\",$I$33,\"\")","v":""},null,null,{"$f":"IF($I$36<>\"\",$I$36,\"\")","v":""},null,null,{"$f":"IF($I$39<>\"\",$I$39,\"\")","v":""},null,null,{"$f":"IF($I$42<>\"\",$I$42,\"\")","v":""},null,null,5,null,8]
[null,null,4,":",4,4,":",4,null,null,null,{"$f":"K13","v":8},":",{"$f":"I13","v":0},{"$f":"K16","v":6},":",{"$f":"I16","v":2},{"$f":"K19","v":8},":",{"$f":"I19","v":0},{"$f":"K22","v":0},":",{"$f":"I22","v":0},{"$f":"K25","v":0},":",{"$f":"I25","v":0},{"$f":"K28","v":0},":",{"$f":"I28","v":0},{"$f":"K31","v":0},":",{"$f":"I31","v":0},{"$f":"K34","v":0},":",{"$f":"I34","v":0},{"$f":"K37","v":0},":",{"$f":"I37","v":0},{"$f":"K40","v":0},":",{"$f":"I40","v":0},{"$f":"$K$43","v":0},":",{"$f":"$I$43","v":0},30,":",10]
[null,null,696,":",711,700,":",694,null,null,null,{"$f":"K14","v":716},":",{"$f":"I14","v":648},{"$f":"K17","v":672},":",{"$f":"I17","v":624},{"$f":"K20","v":738},":",{"$f":"I20","v":595},{"$f":"K23","v":0},":",{"$f":"I23","v":0},{"$f":"K26","v":0},":",{"$f":"I26","v":0},{"$f":"K29","v":0},":",{"$f":"I29","v":0},{"$f":"K32","v":0},":",{"$f":"I32","v":0},{"$f":"K35","v":0},":",{"$f":"I35","v":0},{"$f":"K38","v":0},":",{"$f":"I38","v":0},{"$f":"K41","v":0},":",{"$f":"I41","v":0},{"$f":"$K$44","v":0},":",{"$f":"$I$44","v":0},3522,":",3272]
[{"$f":"'1 kolo'!A12","v":"Georeal"},null,"2023-11-28",null,null,"2024-02-27",null,null,"2023-11-21",null,null,null,null,null,{"$f":"IF(L15<>\"\",L15,\"\")","v":"2024-01-16"},null,null,{"$f":"IF(L18<>\"\",L18,\"\")","v":"2024-01-09"},null,null,{"$f":"IF(L21<>\"\",L21,\"\")","v":""},null,null,{"$f":"IF(L24<>\"\",L24,\"\")","v":""},null,null,{"$f":"IF(L27<>\"\",L27,\"\")","v":""},null,null,{"$f":"IF($L$30<>\"\",$L$30,\"\")","v":""},null,null,{"$f":"IF($L$33<>\"\",$L$33,\"\")","v":""},null,null,{"$f":"IF($L$36<>\"\",$L$36,\"\")","v":""},null,null,{"$f":"IF($L$39<>\"\",$L$39,\"\")","v":""},null,null,{"$f":"IF($L$42<>\"\",$L$42,\"\")","v":""},null,null,5,null,5]
[null,null,0,":",8,4,":",4,0,":",8,null,null,null,{"$f":"N16","v":8},":",{"$f":"L16","v":0},{"$f":"N19","v":8},":",{"$f":"L19","v":0},{"$f":"N22","v":0},":",{"$f":"L22","v":0},{"$f":"N25","v":0},":",{"$f":"L25","v":0},{"$f":"N28","v":0},":",{"$f":"L28","v":0},{"$f":"N31","v":0},":",{"$f":"L31","v":0},{"$f":"N34","v":0},":",{"$f":"L34","v":0},{"$f":"N37","v":0},":",{"$f":"L37","v":0},{"$f":"N40","v":0},":",{"$f":"L40","v":0},{"$f":"$N$43","v":0},":",{"$f":"$L$43","v":0},20,":",20]
[null,null,662,":",752,711,":",704,648,":",716,null,null,null,{"$f":"N17","v":753},":",{"$f":"L17","v":601},{"$f":"N20","v":715},":",{"$f":"L20","v":611},{"$f":"N23","v":0},":",{"$f":"L23","v":0},{"$f":"N26","v":0},":",{"$f":"L26","v":0},{"$f":"N29","v":0},":",{"$f":"L29","v":0},{"$f":"N32","v":0},":",{"$f":"L32","v":0},{"$f":"N35","v":0},":",{"$f":"L35","v":0},{"$f":"N38","v":0},":",{"$f":"L38","v":0},{"$f":"N41","v":0},":",{"$f":"L41","v":0},{"$f":"$N$44","v":0},":",{"$f":"$L$44","v":0},3489,":",3384]
[{"$f":"'1 kolo'!A15","v":"Pohodáři"},null,"2023-11-21",null,null,"2024-01-25",null,null,"2023-11-14",null,null,"2024-01-16",null,null,null,null,null,{"$f":"IF(O18<>\"\",O18,\"\")","v":"2024-12-12"},null,null,{"$f":"IF(O21<>\"\",O21,\"\")","v":""},null,null,{"$f":"IF(O24<>\"\",O24,\"\")","v":""},null,null,{"$f":"IF(O27<>\"\",O27,\"\")","v":""},null,null,{"$f":"IF($O$30<>\"\",$O$30,\"\")","v":""},null,null,{"$f":"IF($O$33<>\"\",$O$33,\"\")","v":""},null,null,{"$f":"IF($O$36<>\"\",$O$36,\"\")","v":""},null,null,{"$f":"IF($O$39<>\"\",$O$39,\"\")","v":""},null,null,{"$f":"IF($O$42<>\"\",$O$42,\"\")","v":""},null,null,5,null,0]
[null,null,2,":",6,2,":",6,2,":",6,0,":",8,null,null,null,{"$f":"Q19","v":0},":",{"$f":"O19","v":8},{"$f":"Q22","v":0},":",{"$f":"O22","v":0},{"$f":"Q25","v":0},":",{"$f":"O25","v":0},{"$f":"Q28","v":0},":",{"$f":"O28","v":0},{"$f":"Q31","v":0},":",{"$f":"O31","v":0},{"$f":"Q34","v":0},":",{"$f":"O34","v":0},{"$f":"Q37","v":0},":",{"$f":"O37","v":0},{"$f":"Q40","v":0},":",{"$f":"O40","v":0},{"$f":"$Q$43","v":0},":",{"$f":"$O$43","v":0},6,":",34]
[null,null,618,":",702,589,":",644,624,":",672,601,":",753,null,null,null,{"$f":"Q20","v":599},":",{"$f":"O20","v":695},{"$f":"Q23","v":0},":",{"$f":"O23","v":0},{"$f":"Q26","v":0},":",{"$f":"O26","v":0},{"$f":"Q29","v":0},":",{"$f":"O29","v":0},{"$f":"Q32","v":0},":",{"$f":"O32","v":0},{"$f":"Q35","v":0},":",{"$f":"O35","v":0},{"$f":"Q38","v":0},":",{"$f":"O38","v":0},{"$f":"Q41","v":0},":",{"$f":"O41","v":0},{"$f":"$Q$44","v":0},":",{"$f":"$O$44","v":0},3031,":",3466]
[{"$f":"'1 kolo'!A18","v":"Šody"},null,"2024-01-30",null,null,"2023-11-28",null,null,"2024-01-16",null,null,"2024-01-09",null,null,"2024-12-12",null,null,null,null,null,{"$f":"IF(R21<>\"\",R21,\"\")","v":""},null,null,{"$f":"IF(R24<>\"\",R24,\"\")","v":""},null,null,{"$f":"IF(R27<>\"\",R27,\"\")","v":""},null,null,{"$f":"IF($R$30<>\"\",$R$30,\"\")","v":""},null,null,{"$f":"IF($R$33<>\"\",$R$33,\"\")","v":""},null,null,{"$f":"IF($R$36<>\"\",$R$36,\"\")","v":""},null,null,{"$f":"IF($R$39<>\"\",$R$39,\"\")","v":""},null,null,{"$f":"IF($R$42<>\"\",$R$42,\"\")","v":""},null,null,5,null,2]
[null,null,1,":",7,0,":",8,0,":",8,0,":",8,8,":",0,null,null,null,{"$f":"T22","v":0},":",{"$f":"R22","v":0},{"$f":"T25","v":0},":",{"$f":"R25","v":0},{"$f":"T28","v":0},":",{"$f":"R28","v":0},{"$f":"T31","v":0},":",{"$f":"R31","v":0},{"$f":"T34","v":0},":",{"$f":"R34","v":0},{"$f":"T37","v":0},":",{"$f":"R37","v":0},{"$f":"T40","v":0},":",{"$f":"R40","v":0},{"$f":"$T$43","v":0},":",{"$f":"$R$43","v":0},9,":",31]
[null,null,631,":",682,596,":",670,595,":",738,611,":",715,695,":",599,null,null,null,{"$f":"T23","v":0},":",{"$f":"R23","v":0},{"$f":"T26","v":0},":",{"$f":"R26","v":0},{"$f":"T29","v":0},":",{"$f":"R29","v":0},{"$f":"T32","v":0},":",{"$f":"R32","v":0},{"$f":"T35","v":0},":",{"$f":"R35","v":0},{"$f":"T38","v":0},":",{"$f":"R38","v":0},{"$f":"T41","v":0},":",{"$f":"R41","v":0},{"$f":"$T$44","v":0},":",{"$f":"$R$44","v":0},3128,":",3404]
[{"$f":"'1 kolo'!A21","v":0},null,null,null,null,null,null,null,null,null,null,null,null,null,null,null,null,null,null,null,null,null,null,{"$f":"IF(U24<>\"\",U24,\"\")","v":""},null,null,{"$f":"IF(U27<>\"\",U27,\"\")","v":""},null,null,{"$f":"IF($U$30<>\"\",$U$30,\"\")","v":""},null,null,{"$f":"IF($U$33<>\"\",$U$33,\"\")","v":""},null,null,{"$f":"IF($U$36<>\"\",$U$36,\"\")","v":""},null,null,{"$f":"IF($U$39<>\"\",$U$39,\"\")","v":""},null,null,{"$f":"IF($U$42<>\"\",$U$42,\"\")","v":""},null,null,0,null,0]
[null,null,null,":",null,null,":",null,null,":",null,null,":",null,null,":",null,null,":",null,null,null,null,{"$f":"W25","v":0},":",{"$f":"U25","v":0},{"$f":"W28","v":0},":",{"$f":"U28","v":0},{"$f":"W31","v":0},":",{"$f":"U31","v":0},{"$f":"W34","v":0},":",{"$f":"U34","v":0},{"$f":"W37","v":0},":",{"$f":"U37","v":0},{"$f":"W40","v":0},":",{"$f":"U40","v":0},{"$f":"$W$43","v":0},":",{"$f":"$U$43","v":0},0,":",0]
[null,null,null,":",null,null,":",null,null,":",null,null,":",null,null,":",null,null,":",null,null,null,null,{"$f":"W26","v":0},":",{"$f":"U26","v":0},{"$f":"W29","v":0},":",{"$f":"U29","v":0},{"$f":"W32","v":0},":",{"$f":"U32","v":0},{"$f":"W35","v":0},":",{"$f":"U35","v":0},{"$f":"W38","v":0},":",{"$f":"U38","v":0},{"$f":"W41","v":0},":",{"$f":"U41","v":0},{"$f":"$W$44","v":0},":",{"$f":"$W$44","v":0},0,":",0]
[{"$f":"'1 kolo'!A24","v":0},null,null,null,null,null,null,null,null,null,null,null,null,null,null,null,null,null,null,null,null,null,null,null,null,null,{"$f":"IF(X27<>\"\",X27,\"\")","v":""},null,null,{"$f":"IF($X$30<>\"\",$X$30,\"\")","v":""},null,null,{"$f":"IF($X$33<>\"\",$X$33,\"\")","v":""},null,null,{"$f":"IF($X$36<>\"\",$X$36,\"\")","v":""},null,null,{"$f":"IF($X$39<>\"\",$X$39,\"\")","v":""},null,null,{"$f":"IF($X$42<>\"\",$X$42,\"\")","v":""},null,null,0,null,0]
[null,null,null,":",null,null,":",null,null,":",null,null,":",null,null,":",null,null,":",null,null,":",null,null,null,null,{"$f":"Z28","v":0},":",{"$f":"X28","v":0},{"$f":"Z31","v":0},":",{"$f":"X31","v":0},{"$f":"Z34","v":0},":",{"$f":"X34","v":0},{"$f":"Z37","v":0},":",{"$f":"X37","v":0},{"$f":"Z40","v":0},":",{"$f":"X40","v":0},{"$f":"$Z$43","v":0},":",{"$f":"$X$43","v":0},0,":",0]
[null,null,null,":",null,null,":",null,null,":",null,null,":",null,null,":",null,null,":",null,null,":",null,null,null,null,{"$f":"Z29","v":0},":",{"$f":"X29","v":0},{"$f":"Z32","v":0},":",{"$f":"X32","v":0},{"$f":"Z35","v":0},":",{"$f":"X35","v":0},{"$f":"Z38","v":0},":",{"$f":"X38","v":0},{"$f":"Z41","v":0},":",{"$f":"X41","v":0},{"$f":"$Z$44","v":0},":",{"$f":"$X$44","v":0},0,":",0]
[null,null,null,null,null,null,null,null,null,null,null,null,null,null,null,null,null,null,null,null,null,null,null,null,null,null,null,null,null,{"$f":"IF($AA$30<>\"\",$AA$30,\"\")","v":""},null,null,{"$f":"IF($AA$33<>\"\",$AA$33,\"\")","v":""},null,null,{"$f":"IF($AA$36<>\"\",$AA$36,\"\")","v":""},null,null,{"$f":"IF($AA$39<>\"\",$AA$39,\"\")","v":""},null,null,{"$f":"IF($AA42<>\"\",$AA$42,\"\")","v":""},null,null,0,null,0]
[null,null,null,":",null,null,":",null,null,":",null,null,":",null,null,":",null,null,":",null,null,":",null,null,":",null,null,null,null,{"$f":"AC31","v":0},":",{"$f":"AA31","v":0},{"$f":"AC34","v":0},":",{"$f":"AA34","v":0},{"$f":"AC37","v":0},":",{"$f":"AA37","v":0},{"$f":"AC40","v":0},":",{"$f":"AA40","v":0},{"$f":"$AC$43","v":0},":",{"$f":"$AA$43","v":0},0,":",0]
[null,null,null,":",null,null,":",null,null,":",null,null,":",null,null,":",null,null,":",null,null,":",null,null,":",null,null,null,null,{"$f":"AC32","v":0},":",{"$f":"AA32","v":0},{"$f":"AC35","v":0},":",{"$f":"AA35","v":0},{"$f":"AC38","v":0},":",{"$f":"AA38","v":0},{"$f":"AC41","v":0},":",{"$f":"AA41","v":0},{"$f":"$AC$44","v":0},":",{"$f":"$AA$44","v":0},0,":",0]
["Česyk",null,null,null,null,null,null,null,null,null,null,null,null,null,null,null,null,null,null,null,null,null,null,null,null,null,null,null,null,null,null,null,{"$f":"IF($AD$33<>\"\",$AD$33,\"\")","v":""},null,null,{"$f":"IF($AD$36<>\"\",$AD$36,\"\")","v":""},null,null,{"$f":"IF($AD$39<>\"\",$AD$39,\"\")","v":""},null,null,{"$f":"IF($AD$42<>\"\",$AD$42,\"\")","v":""},null,null,0,null,0]
[null,null,null,null,null,null,null,null,null,null,null,null,null,null,null,null,null,null,null,null,null,null,null,null,null,null,null,null,null,null,null,null,{"$f":"AF34","v":0},":",{"$f":"AD34","v":0},{"$f":"AF37","v":0},":",{"$f":"AD37","v":0},{"$f":"AF40","v":0},":",{"$f":"AD40","v":0},{"$f":"$AF$43","v":0},":",{"$f":"$AD$43","v":0},0,":",0]
[null,null,null,null,null,null,null,null,null,null,null,null,null,null,null,null,null,null,null,null,null,null,null,null,null,null,null,null,null,null,null,null,{"$f":"AF35","v":0},":",{"$f":"AD35","v":0},{"$f":"AF38","v":0},":",{"$f":"AD38","v":0},{"$f":"AF41","v":0},":",{"$f":"AD41","v":0},{"$f":"$AF$44","v":0},":",{"$f":"$AD$44","v":0},0,":",0]
["Přibyšice",null,null,null,null,null,null,null,null,null,null,null,null,null,null,null,null,null,null,null,null,null,null,null,null,null,null,null,null,null,null,null,null,null,null,{"$f":"IF($AG$36<>\"\",$AG$36,\"\")","v":""},null,null,{"$f":"IF($AG$39<>\"\",$AG$39,\"\")","v":""},null,null,{"$f":"IF($AG$42<>\"\",$AG$42,\"\")","v":""},null,null,0,null,0]
[null,null,null,null,null,null,null,null,null,null,null,null,null,null,null,null,null,null,null,null,null,null,null,null,null,null,null,null,null,null,null,null,null,null,null,{"$f":"AI37","v":0},":",{"$f":"AG37","v":0},{"$f":"AI40","v":0},":",{"$f":"AG40","v":0},{"$f":"$AI$43","v":0},":",{"$f":"$AG$43","v":0},0,":",0]
[null,null,null,null,null,null,null,null,null,null,null,null,null,null,null,null,null,null,null,null,null,null,null,null,null,null,null,null,null,null,null,null,null,null,null,{"$f":"AI38","v":0},":",{"$f":"AG38","v":0},{"$f":"AI41","v":0},":",{"$f":"AG41","v":0},{"$f":"$AI$44","v":0},":",{"$f":"$AG$44","v":0},0,":",0]
["K3",null,null,null,null,null,null,null,null,null,null,null,null,null,null,null,null,null,null,null,null,null,null,null,null,null,null,null,null,null,null,null,null,null,null,null,null,null,{"$f":"IF($AJ$39<>\"\",$AJ$39,\"\")","v":""},null,null,{"$f":"IF($AJ$42<>\"\",$AJ$42,\"\")","v":""},null,null,0,null,0]
[null,null,null,null,null,null,null,null,null,null,null,null,null,null,null,null,null,null,null,null,null,null,null,null,null,null,null,null,null,null,null,null,null,null,null,null,null,null,{"$f":"AL40","v":0},":",{"$f":"AJ40","v":0},{"$f":"$AL$43","v":0},":",{"$f":"$AJ$43","v":0},0,":",0]
[null,null,null,null,null,null,null,null,null,null,null,null,null,null,null,null,null,null,null,null,null,null,null,null,null,null,null,null,null,null,null,null,null,null,null,null,null,null,{"$f":"AL41","v":0},":",{"$f":"AJ41","v":0},{"$f":"$AL$44","v":0},":",{"$f":"$AJ$44","v":0},0,":",0]
[null,null,null,null,null,null,null,null,null,null,null,null,null,null,null,null,null,null,null,null,null,null,null,null,null,null,null,null,null,null,null,null,null,null,null,null,null,null,null,null,null,{"$f":"IF($AM$42<>\"\",$AM$42,\"\")","v":""},null,null,0,null,0]
[null,null,null,null,null,null,null,null,null,null,null,null,null,null,null,null,null,null,null,null,null,null,null,null,null,null,null,null,null,null,null,null,null,null,null,null,":",null,null,null,null,{"$f":"$AO$43","v":0},":",{"$f":"$AM$43","v":0},0,":",0]
[null,null,null,null,null,null,null,null,null,null,null,null,null,null,null,null,null,null,null,null,null,null,null,null,null,null,null,null,null,null,null,null,null,null,null,null,":",null,null,null,null,{"$f":"$AO$44","v":0},":",{"$f":"$AM$44","v":0},0,":",0]
[null,null,null,null,null,null,null,null,null,null,null,null,null,null,null,null,null,null,null,null,null,null,null,null,null,null,null,null,null,null,null,null,null,null,null,null,null,null,null,null,null,null,null,null,0,null,0]
[null,null,null,":",null,null,":",null,null,":",null,null,":",null,null,":",null,null,":",null,null,":",null,null,":",null,null,":",null,null,":",null,null,":",null,null,":",null,null,":",null,null,null,null,0,":",0]
[null,null,null,":",null,null,":",null,null,":",null,null,":",null,null,":",null,null,":",null,null,":",null,null,":",null,null,":",null,null,":",null,null,":",null,null,":",null,null,":",null,null,null,null,0,":",0]

{"sheet":"3 kolo","index":4,"n_rows":44,"n_cols":47,"rows_kept":44,"cut":false,"hidden":false,"merged":[[1,29,1,31],[1,32,1,34],[1,35,1,37],[1,38,1,40],[1,41,1,43],[1,44,1,46],[0,0,0,46],[1,2,1,4],[1,5,1,7],[1,8,1,10],[1,11,1,13],[1,14,1,16],[1,17,1,19],[1,20,1,22],[1,23,1,25],[1,26,1,28],[5,0,7,0],[5,1,7,1],[5,2,5,4],[5,8,5,10],[5,11,5,13],[5,14,5,16],[5,17,5,19],[2,17,2,19],[2,20,2,22],[2,0,4,0],[2,1,4,1],[2,5,2,7],[2,8,2,10],[2,11,2,13],[2,14,2,16],[8,5,8,7],[8,11,8,13],[8,14,8,16],[8,17,8,19],[8,20,8,22],[5,20,5,22],[2,35,2,37],[2,38,2,40],[2,41,2,43],[2,23,2,25],[2,26,2,28],[2,29,2,31],[2,32,2,34],[5,38,5,40],[5,41,5,43],[5,23,5,25],[5,26,5,28],[5,29,5,31],[5,32,5,34],[5,35,5,37],[8,41,8,43],[8,23,8,25],[8,26,8,28],[8,29,8,31],[11,26,11,28],[11,29,11,31],[11,32,11,34],[11,35,11,37],[14,11,14,13],[17,38,17,40],[17,41,17,43],[11,38,11,40],[11,41,11,43],[14,41,14,43],[17,35,17,37],[11,0,13,0],[11,1,13,1],[11,2,11,4],[11,5,11,7],[11,8,11,10],[11,14,11,16],[11,17,11,19],[11,20,11,22],[11,23,11,25],[8,32,8,34],[8,35,8,37],[8,38,8,40],[8,0,10,0],[8,1,10,1],[8,2,8,4],[20,14,20,16],[20,17,20,19],[17,20,17,22],[14,35,14,37],[14,38,14,40],[17,0,19,0],[17,1,19,1],[17,2,17,4],[17,5,17,7],[17,8,17,10],[17,11,17,13],[17,14,17,16],[14,17,14,19],[14,20,14,22],[14,23,14,25],[14,26,14,28],[14,29,14,31],[14,32,14,34],[14,0,16,0],[14,1,16,1],[14,2,14,4],[14,5,14,7],[14,8,14,10],[17,23,17,25],[17,26,17,28],[17,29,17,31],[17,32,17,34],[23,26,23,28],[23,29,23,31],[23,32,23,34],[23,35,23,37],[23,38,23,40],[23,41,23,43],[20,41,20,43],[23,0,25,0],[23,1,25,1],[23,2,23,4],[23,5,23,7],[23,8,23,10],[23,11,23,13],[23,14,23,16],[23,17,23,19],[23,20,23,22],[20,23,20,25],[20,26,20,28],[20,29,20,31],[20,32,20,34],[20,35,20,37],[20,38,20,40],[20,0,22,0],[20,1,22,1],[20,2,20,4],[20,5,20,7],[20,8,20,10],[20,11,20,13],[26,35,26,37],[26,38,26,40],[26,41,26,43],[29,0,31,0],[29,1,31,1],[29,2,29,4],[29,5,29,7],[29,8,29,10],[29,11,29,13],[29,14,29,16],[26,14,26,16],[26,17,26,19],[26,20,26,22],[26,23,26,25],[26,29,26,31],[26,32,26,34],[26,0,28,0],[26,1,28,1],[26,2,26,4],[26,5,26,7],[26,8,26,10],[26,11,26,13],[29,38,29,40],[29,41,29,43],[32,0,34,0],[32,1,34,1],[32,2,32,4],[32,5,32,7],[32,8,32,10],[32,11,32,13],[32,14,32,16],[32,17,32,19],[29,17,29,19],[29,20,29,22],[29,23,29,25],[29,26,29,28],[29,32,29,34],[29,35,29,37],[35,32,35,34],[35,38,35,40],[35,41,35,43],[32,41,32,43],[32,20,32,22],[32,23,32,25],[32,26,32,28],[32,29,32,31],[32,35,32,37],[32,38,32,40],[38,0,40,0],[38,1,40,1],[38,2,38,4],[38,5,38,7],[38,8,38,10],[38,11,38,13],[35,23,35,25],[35,26,35,28],[35,29,35,31],[35,0,37,0],[35,1,37,1],[35,2,35,4],[35,5,35,7],[35,8,35,10],[35,11,35,13],[35,14,35,16],[35,17,35,19],[35,20,35,22],[41,2,41,4],[41,5,41,7],[41,8,41,10],[41,11,41,13],[41,14,41,16],[41,17,41,19],[41,20,41,22],[38,14,38,16],[38,17,38,19],[38,20,38,22],[41,23,41,25],[41,26,41,28],[41,29,41,31],[41,32,41,34],[41,35,41,37],[41,38,41,40],[38,32,38,34],[38,35,38,37],[38,41,38,43],[38,23,38,25],[38,26,38,28],[38,29,38,31]]}
["Tabulka 1. liga 2 kolo - Jarní část"]
["1. Liga 2022 - 2023",null,{"$f":"A3","v":"Básníci "},null,null,{"$f":"A6","v":"Benešov D"},null,null,{"$f":"A9","v":"Česyk"},null,null,{"$f":"A12","v":"Georeal"},null,null,{"$f":"A15","v":"Pohodáři"},null,null,{"$f":"A18","v":"Šody"},null,null,{"$f":"A21","v":0},null,null,{"$f":"A24","v":0},null,null,null,null,null,{"$f":"A30","v":"Česyk"},null,null,{"$f":"A33","v":"Přibyšice"},null,null,{"$f":"A36","v":"K3"},null,null,{"$f":"A39","v":0},null,null,{"$f":"A42","v":0},null,null,"Celkem     zápasy / body        skóre"]
[{"$f":"'1 kolo'!A3","v":"Básníci "},null,null,null,null,{"$f":"IF(C6<>\"\",C6,\"\")","v":"2024-03-05"},null,null,{"$f":"IF(C9<>\"\",C9,\"\")","v":"2024-02-20"},null,null,{"$f":"IF(C12<>\"\",C12,\"\")","v":"2024-02-13"},null,null,{"$f":"IF(C15<>\"\",C15,\"\")","v":"2024-02-06"},null,null,{"$f":"IF(C18<>\"\",C18,\"\")","v":"2024-03-26"},null,null,null,null,null,null,null,null,{"$f":"IF(C27<>\"\",C27,\"\")","v":""},null,null,{"$f":"IF($C$30<>\"\",$C$30,\"\")","v":""},null,null,{"$f":"IF($C$33<>\"\",$C$33,\"\")","v":""},null,null,{"$f":"IF($C$36<>\"\",$C$36,\"\")","v":""},null,null,{"$f":"IF($C$39<>\"\",$C$39,\"\")","v":""},null,null,{"$f":"IF($C$42<>\"\",$C$42,\"\")","v":""},null,null,5,null,9]
[null,null,null,null,null,{"$f":"E7","v":6},":",{"$f":"C7","v":2},{"$f":"E10","v":4},":",{"$f":"C10","v":4},{"$f":"E13","v":6},":",{"$f":"C13","v":2},{"$f":"E16","v":8},":",{"$f":"C16","v":0},{"$f":"E19","v":6},":",{"$f":"C19","v":2},null,null,null,null,null,null,{"$f":"E28","v":0},":",{"$f":"C28","v":0},{"$f":"E31","v":0},":",{"$f":"C31","v":0},{"$f":"E34","v":0},":",{"$f":"C34","v":0},{"$f":"E37","v":0},":",{"$f":"C37","v":0},{"$f":"E40","v":0},":",{"$f":"C40","v":0},{"$f":"E43","v":0},":",{"$f":"C43","v":0},30,":",10]
[null,null,null,null,null,{"$f":"E8","v":715},":",{"$f":"C8","v":646},{"$f":"E11","v":693},":",{"$f":"C11","v":695},{"$f":"E14","v":765},":",{"$f":"C14","v":689},{"$f":"E17","v":721},":",{"$f":"C17","v":529},{"$f":"E20","v":644},":",{"$f":"C20","v":579},null,null,null,null,null,null,{"$f":"E29","v":0},":",{"$f":"C29","v":0},{"$f":"E32","v":0},":",{"$f":"C32","v":0},{"$f":"E35","v":0},":",{"$f":"C35","v":0},{"$f":"E38","v":0},":",{"$f":"C38","v":0},{"$f":"E41","v":0},":",{"$f":"C41","v":0},{"$f":"E44","v":0},":",{"$f":"C44","v":0},3538,":",3138]
[{"$f":"'1 kolo'!A6","v":"Benešov D"},null,"2024-03-05",null,null,null,null,null,{"$f":"IF(F9<>\"\",F9,\"\")","v":"2024-03-21"},null,null,{"$f":"IF(F12<>\"\",F12,\"\")","v":"2024-01-30"},null,null,{"$f":"IF(F15<>\"\",F15,\"\")","v":"2024-02-20"},null,null,{"$f":"IF(F18<>\"\",F18,\"\")","v":"2024-03-26"},null,null,null,null,null,null,null,null,{"$f":"IF(F27<>\"\",F27,\"\")","v":""},null,null,{"$f":"IF($F$30<>\"\",$F$30,\"\")","v":""},null,null,{"$f":"IF($F$33<>\"\",$F$33,\"\")","v":""},null,null,{"$f":"IF($F$36<>\"\",$F$36,\"\")","v":""},null,null,{"$f":"IF($F$39<>\"\",$F$39,\"\")","v":""},null,null,{"$f":"IF($F$42<>\"\",$F$3943,\"\")","v":""},null,null,4,null,4]
[null,null,2,":",6,null,null,null,{"$f":"H10","v":2},":",{"$f":"F10","v":6},{"$f":"H13","v":5},":",{"$f":"F13","v":3},{"$f":"H16","v":8},":",{"$f":"F16","v":0},{"$f":"H19","v":0},":",{"$f":"F19","v":8},null,null,null,null,null,null,{"$f":"H28","v":0},":",{"$f":"F28","v":0},{"$f":"H31","v":0},":",{"$f":"F31","v":0},{"$f":"H34","v":0},":",{"$f":"F34","v":0},{"$f":"H37","v":0},":",{"$f":"F37","v":0},{"$f":"$H40","v":0},":",{"$f":"$F40","v":0},{"$f":"$H43","v":0},":",{"$f":"$F43","v":0},17,":",23]
[null,null,646,":",715,null,null,null,{"$f":"H11","v":659},":",{"$f":"F11","v":669},{"$f":"H14","v":698},":",{"$f":"F14","v":697},{"$f":"H17","v":696},":",{"$f":"F17","v":650},{"$f":"H20","v":0},":",{"$f":"F20","v":0},null,null,null,null,null,null,{"$f":"H29","v":0},":",{"$f":"F29","v":0},{"$f":"H32","v":0},":",{"$f":"F32","v":0},{"$f":"H35","v":0},":",{"$f":"F35","v":0},{"$f":"H38","v":0},":",{"$f":"F38","v":0},{"$f":"$H41","v":0},":",{"$f":"$F41","v":0},{"$f":"$H44","v":0},":",{"$f":"$F44","v":0},2699,":",2731]
[{"$f":"'1 kolo'!A9","v":"Česyk"},null,"2024-02-20",null,null,"2024-03-21",null,null,null,null,null,{"$f":"IF(I12<>\"\",I12,\"\")","v":"2024-03-26"},null,null,{"$f":"IF(I15<>\"\",I15,\"\")","v":"2024-01-30"},null,null,{"$f":"IF(I18<>\"\",I18,\"\")","v":"2024-03-19"},null,null,null,null,null,null,null,null,{"$f":"IF(I27<>\"\",I27,\"\")","v":""},null,null,{"$f":"IF($I$30<>\"\",$I$30,\"\")","v":""},null,null,{"$f":"IF($I$33<>\"\",$I$33,\"\")","v":""},null,null,{"$f":"IF($I$36<>\"\",$I$36,\"\")","v":""},null,null,{"$f":"IF($I$39<>\"\",$I$39,\"\")","v":""},null,null,{"$f":"IF($I$42<>\"\",$I$42,\"\")","v":""},null,null,5,null,7]
[null,null,4,":",4,6,":",2,null,null,null,{"$f":"K13","v":0},":",{"$f":"I13","v":8},{"$f":"K16","v":6},":",{"$f":"I16","v":2},{"$f":"K19","v":8},":",{"$f":"I19","v":0},null,null,null,null,null,null,{"$f":"K28","v":0},":",{"$f":"I28","v":0},{"$f":"K31","v":0},":",{"$f":"I31","v":0},{"$f":"K34","v":0},":",{"$f":"I34","v":0},{"$f":"K37","v":0},":",{"$f":"I37","v":0},{"$f":"K40","v":0},":",{"$f":"I40","v":0},{"$f":"$K$43","v":0},":",{"$f":"$I$43","v":0},24,":",16]
[null,null,695,":",693,669,":",659,null,null,null,{"$f":"K14","v":702},":",{"$f":"I14","v":740},{"$f":"K17","v":712},":",{"$f":"I17","v":667},{"$f":"K20","v":693},":",{"$f":"I20","v":624},null,null,null,null,null,null,{"$f":"K29","v":0},":",{"$f":"I29","v":0},{"$f":"K32","v":0},":",{"$f":"I32","v":0},{"$f":"K35","v":0},":",{"$f":"I35","v":0},{"$f":"K38","v":0},":",{"$f":"I38","v":0},{"$f":"K41","v":0},":",{"$f":"I41","v":0},{"$f":"$K$44","v":0},":",{"$f":"$I$44","v":0},3471,":",3383]
[{"$f":"'1 kolo'!A12","v":"Georeal"},null,"2024-02-13",null,null,"2024-01-30",null,null,"2024-03-26",null,null,null,null,null,{"$f":"IF(L15<>\"\",L15,\"\")","v":""},null,null,{"$f":"IF(L18<>\"\",L18,\"\")","v":"2024-03-05"},null,null,null,null,null,null,null,null,{"$f":"IF(L27<>\"\",L27,\"\")","v":""},null,null,{"$f":"IF($L$30<>\"\",$L$30,\"\")","v":""},null,null,{"$f":"IF($L$33<>\"\",$L$33,\"\")","v":""},null,null,{"$f":"IF($L$36<>\"\",$L$36,\"\")","v":""},null,null,{"$f":"IF($L$39<>\"\",$L$39,\"\")","v":""},null,null,{"$f":"IF($L$42<>\"\",$L$42,\"\")","v":""},null,null,4,null,4]
[null,null,2,":",6,3,":",5,8,":",0,null,null,null,{"$f":"N16","v":0},":",{"$f":"L16","v":0},{"$f":"N19","v":6},":",{"$f":"L19","v":2},null,null,null,null,null,null,{"$f":"N28","v":0},":",{"$f":"L28","v":0},{"$f":"N31","v":0},":",{"$f":"L31","v":0},{"$f":"N34","v":0},":",{"$f":"L34","v":0},{"$f":"N37","v":0},":",{"$f":"L37","v":0},{"$f":"N40","v":0},":",{"$f":"L40","v":0},{"$f":"$N$43","v":0},":",{"$f":"$L$43","v":0},19,":",13]
[null,null,689,":",765,697,":",698,740,":",702,null,null,null,{"$f":"N17","v":0},":",{"$f":"L17","v":0},{"$f":"N20","v":659},":",{"$f":"L20","v":657},null,null,null,null,null,null,{"$f":"N29","v":0},":",{"$f":"L29","v":0},{"$f":"N32","v":0},":",{"$f":"L32","v":0},{"$f":"N35","v":0},":",{"$f":"L35","v":0},{"$f":"N38","v":0},":",{"$f":"L38","v":0},{"$f":"N41","v":0},":",{"$f":"L41","v":0},{"$f":"$N$44","v":0},":",{"$f":"$L$44","v":0},2785,":",2822]
[{"$f":"'1 kolo'!A15","v":"Pohodáři"},null,"2024-02-06",null,null,"2024-02-20",null,null,"2024-01-30",null,null,null,null,null,null,null,null,{"$f":"IF(O18<>\"\",O18,\"\")","v":"2024-02-27"},null,null,null,null,null,null,null,null,{"$f":"IF(O27<>\"\",O27,\"\")","v":""},null,null,{"$f":"IF($O$30<>\"\",$O$30,\"\")","v":""},null,null,{"$f":"IF($O$33<>\"\",$O$33,\"\")","v":""},null,null,{"$f":"IF($O$36<>\"\",$O$36,\"\")","v":""},null,null,{"$f":"IF($O$39<>\"\",$O$39,\"\")","v":""},null,null,{"$f":"IF($O$42<>\"\",$O$42,\"\")","v":""},null,null,4,null,0]
[null,null,0,":",8,0,":",8,2,":",6,null,":",null,null,null,null,{"$f":"Q19","v":2},":",{"$f":"O19","v":6},null,null,null,null,null,null,{"$f":"Q28","v":0},":",{"$f":"O28","v":0},{"$f":"Q31","v":0},":",{"$f":"O31","v":0},{"$f":"Q34","v":0},":",{"$f":"O34","v":0},{"$f":"Q37","v":0},":",{"$f":"O37","v":0},{"$f":"Q40","v":0},":",{"$f":"O40","v":0},{"$f":"$Q$43","v":0},":",{"$f":"$O$43","v":0},4,":",28]
[null,null,529,":",721,650,":",696,667,":",712,null,":",null,null,null,null,{"$f":"Q20","v":583},":",{"$f":"O20","v":623},null,null,null,null,null,null,{"$f":"Q29","v":0},":",{"$f":"O29","v":0},{"$f":"Q32","v":0},":",{"$f":"O32","v":0},{"$f":"Q35","v":0},":",{"$f":"O35","v":0},{"$f":"Q38","v":0},":",{"$f":"O38","v":0},{"$f":"Q41","v":0},":",{"$f":"O41","v":0},{"$f":"$Q$44","v":0},":",{"$f":"$O$44","v":0},2429,":",2752]
[{"$f":"'1 kolo'!A18","v":"Šody"},null,"2024-03-26",null,null,"2024-03-26",null,null,"2024-03-19",null,null,"2024-03-05",null,null,"2024-02-27",null,null,null,null,null,null,null,null,null,null,null,{"$f":"IF(R27<>\"\",R27,\"\")","v":""},null,null,{"$f":"IF($R$30<>\"\",$R$30,\"\")","v":""},null,null,{"$f":"IF($R$33<>\"\",$R$33,\"\")","v":""},null,null,{"$f":"IF($R$36<>\"\",$R$36,\"\")","v":""},null,null,{"$f":"IF($R$39<>\"\",$R$39,\"\")","v":""},null,null,{"$f":"IF($R$42<>\"\",$R$42,\"\")","v":""},null,null,4,null,4]
[null,null,2,":",6,8,":",0,0,":",8,2,":",6,6,":",2,null,null,null,null,null,null,null,null,null,{"$f":"T28","v":0},":",{"$f":"R28","v":0},{"$f":"T31","v":0},":",{"$f":"R31","v":0},{"$f":"T34","v":0},":",{"$f":"R34","v":0},{"$f":"T37","v":0},":",{"$f":"R37","v":0},{"$f":"T40","v":0},":",{"$f":"R40","v":0},{"$f":"$T$43","v":0},":",{"$f":"$R$43","v":0},18,":",22]
[null,null,579,":",644,null,":",null,624,":",693,657,":",659,623,":",583,null,null,null,null,null,null,null,null,null,{"$f":"T29","v":0},":",{"$f":"R29","v":0},{"$f":"T32","v":0},":",{"$f":"R32","v":0},{"$f":"T35","v":0},":",{"$f":"R35","v":0},{"$f":"T38","v":0},":",{"$f":"R38","v":0},{"$f":"T41","v":0},":",{"$f":"R41","v":0},{"$f":"$T$44","v":0},":",{"$f":"$R$44","v":0},2483,":",2579]
[{"$f":"'1 kolo'!A21","v":0},null,null,null,null,null,null,null,null,null,null,null,null,null,null,null,null,null,null,null,null,null,null,null,null,null,{"$f":"IF(U27<>\"\",U27,\"\")","v":""},null,null,{"$f":"IF($U$30<>\"\",$U$30,\"\")","v":""},null,null,{"$f":"IF($U$33<>\"\",$U$33,\"\")","v":""},null,null,{"$f":"IF($U$36<>\"\",$U$36,\"\")","v":""},null,null,{"$f":"IF($U$39<>\"\",$U$39,\"\")","v":""},null,null,{"$f":"IF($U$42<>\"\",$U$42,\"\")","v":""},null,null,0,null,0]
[null,null,null,null,null,null,null,null,null,null,null,null,null,null,null,null,null,null,null,null,null,null,null,null,null,null,{"$f":"W28","v":0},":",{"$f":"U28","v":0},{"$f":"W31","v":0},":",{"$f":"U31","v":0},{"$f":"W34","v":0},":",{"$f":"U34","v":0},{"$f":"W37","v":0},":",{"$f":"U37","v":0},{"$f":"W40","v":0},":",{"$f":"U40","v":0},{"$f":"$W$43","v":0},":",{"$f":"$U$43","v":0},0,":",0]
[null,null,null,null,null,null,null,null,null,null,null,null,null,null,null,null,null,null,null,null,null,null,null,null,null,null,{"$f":"W29","v":0},":",{"$f":"U29","v":0},{"$f":"W32","v":0},":",{"$f":"U32","v":0},{"$f":"W35","v":0},":",{"$f":"U35","v":0},{"$f":"W38","v":0},":",{"$f":"U38","v":0},{"$f":"W41","v":0},":",{"$f":"U41","v":0},{"$f":"$W$44","v":0},":",{"$f":"$W$44","v":0},0,":",0]
[{"$f":"'1 kolo'!A24","v":0},null,null,null,null,null,null,null,null,null,null,null,null,null,null,null,null,null,null,null,null,null,null,null,null,null,{"$f":"IF(X27<>\"\",X27,\"\")","v":""},null,null,{"$f":"IF($X$30<>\"\",$X$30,\"\")","v":""},null,null,{"$f":"IF($X$33<>\"\",$X$33,\"\")","v":""},null,null,{"$f":"IF($X$36<>\"\",$X$36,\"\")","v":""},null,null,{"$f":"IF($X$39<>\"\",$X$39,\"\")","v":""},null,null,{"$f":"IF($X$42<>\"\",$X$42,\"\")","v":""},null,null,0,null,0]
[null,null,null,null,null,null,null,null,null,null,null,null,null,null,null,null,null,null,null,null,null,null,null,null,null,null,{"$f":"Z28","v":0},":",{"$f":"X28","v":0},{"$f":"Z31","v":0},":",{"$f":"X31","v":0},{"$f":"Z34","v":0},":",{"$f":"X34","v":0},{"$f":"Z37","v":0},":",{"$f":"X37","v":0},{"$f":"Z40","v":0},":",{"$f":"X40","v":0},{"$f":"$Z$43","v":0},":",{"$f":"$X$43","v":0},0,":",0]
[null,null,null,null,null,null,null,null,null,null,null,null,null,null,null,null,null,null,null,null,null,null,null,null,null,null,{"$f":"Z29","v":0},":",{"$f":"X29","v":0},{"$f":"Z32","v":0},":",{"$f":"X32","v":0},{"$f":"Z35","v":0},":",{"$f":"X35","v":0},{"$f":"Z38","v":0},":",{"$f":"X38","v":0},{"$f":"Z41","v":0},":",{"$f":"X41","v":0},{"$f":"$Z$44","v":0},":",{"$f":"$X$44","v":0},0,":",0]
[null,null,null,null,null,null,null,null,null,null,null,null,null,null,null,null,null,null,null,null,null,null,null,null,null,null,null,null,null,{"$f":"IF($AA$30<>\"\",$AA$30,\"\")","v":""},null,null,{"$f":"IF($AA$33<>\"\",$AA$33,\"\")","v":""},null,null,{"$f":"IF($AA$36<>\"\",$AA$36,\"\")","v":""},null,null,{"$f":"IF($AA$39<>\"\",$AA$39,\"\")","v":""},null,null,{"$f":"IF($AA42<>\"\",$AA$42,\"\")","v":""},null,null,0,null,0]
[null,null,null,null,null,null,null,null,null,null,null,null,null,null,null,null,null,null,null,null,null,null,null,null,null,null,null,null,null,{"$f":"AC31","v":0},":",{"$f":"AA31","v":0},{"$f":"AC34","v":0},":",{"$f":"AA34","v":0},{"$f":"AC37","v":0},":",{"$f":"AA37","v":0},{"$f":"AC40","v":0},":",{"$f":"AA40","v":0},{"$f":"$AC$43","v":0},":",{"$f":"$AA$43","v":0},0,":",0]
[null,null,null,null,null,null,null,null,null,null,null,null,null,null,null,null,null,null,null,null,null,null,null,null,null,null,null,null,null,{"$f":"AC32","v":0},":",{"$f":"AA32","v":0},{"$f":"AC35","v":0},":",{"$f":"AA35","v":0},{"$f":"AC38","v":0},":",{"$f":"AA38","v":0},{"$f":"AC41","v":0},":",{"$f":"AA41","v":0},{"$f":"$AC$44","v":0},":",{"$f":"$AA$44","v":0},0,":",0]
["Česyk",null,null,null,null,null,null,null,null,null,null,null,null,null,null,null,null,null,null,null,null,null,null,null,null,null,null,null,null,null,null,null,{"$f":"IF($AD$33<>\"\",$AD$33,\"\")","v":""},null,null,{"$f":"IF($AD$36<>\"\",$AD$36,\"\")","v":""},null,null,{"$f":"IF($AD$39<>\"\",$AD$39,\"\")","v":""},null,null,{"$f":"IF($AD$42<>\"\",$AD$42,\"\")","v":""},null,null,0,null,0]
[null,null,null,null,null,null,null,null,null,null,null,null,null,null,null,null,null,null,null,null,null,null,null,null,null,null,null,null,null,null,null,null,{"$f":"AF34","v":0},":",{"$f":"AD34","v":0},{"$f":"AF37","v":0},":",{"$f":"AD37","v":0},{"$f":"AF40","v":0},":",{"$f":"AD40","v":0},{"$f":"$AF$43","v":0},":",{"$f":"$AD$43","v":0},0,":",0]
[null,null,null,null,null,null,null,null,null,null,null,null,null,null,null,null,null,null,null,null,null,null,null,null,null,null,null,null,null,null,null,null,{"$f":"AF35","v":0},":",{"$f":"AD35","v":0},{"$f":"AF38","v":0},":",{"$f":"AD38","v":0},{"$f":"AF41","v":0},":",{"$f":"AD41","v":0},{"$f":"$AF$44","v":0},":",{"$f":"$AD$44","v":0},0,":",0]
["Přibyšice",null,null,null,null,null,null,null,null,null,null,null,null,null,null,null,null,null,null,null,null,null,null,null,null,null,null,null,null,null,null,null,null,null,null,{"$f":"IF($AG$36<>\"\",$AG$36,\"\")","v":""},null,null,{"$f":"IF($AG$39<>\"\",$AG$39,\"\")","v":""},null,null,{"$f":"IF($AG$42<>\"\",$AG$42,\"\")","v":""},null,null,0,null,0]
[null,null,null,null,null,null,null,null,null,null,null,null,null,null,null,null,null,null,null,null,null,null,null,null,null,null,null,null,null,null,null,null,null,null,null,{"$f":"AI37","v":0},":",{"$f":"AG37","v":0},{"$f":"AI40","v":0},":",{"$f":"AG40","v":0},{"$f":"$AI$43","v":0},":",{"$f":"$AG$43","v":0},0,":",0]
[null,null,null,null,null,null,null,null,null,null,null,null,null,null,null,null,null,null,null,null,null,null,null,null,null,null,null,null,null,null,null,null,null,null,null,{"$f":"AI38","v":0},":",{"$f":"AG38","v":0},{"$f":"AI41","v":0},":",{"$f":"AG41","v":0},{"$f":"$AI$44","v":0},":",{"$f":"$AG$44","v":0},0,":",0]
["K3",null,null,null,null,null,null,null,null,null,null,null,null,null,null,null,null,null,null,null,null,null,null,null,null,null,null,null,null,null,null,null,null,null,null,null,null,null,{"$f":"IF($AJ$39<>\"\",$AJ$39,\"\")","v":""},null,null,{"$f":"IF($AJ$42<>\"\",$AJ$42,\"\")","v":""},null,null,0,null,0]
[null,null,null,null,null,null,null,null,null,null,null,null,null,null,null,null,null,null,null,null,null,null,null,null,null,null,null,null,null,null,null,null,null,null,null,null,null,null,{"$f":"AL40","v":0},":",{"$f":"AJ40","v":0},{"$f":"$AL$43","v":0},":",{"$f":"$AJ$43","v":0},0,":",0]
[null,null,null,null,null,null,null,null,null,null,null,null,null,null,null,null,null,null,null,null,null,null,null,null,null,null,null,null,null,null,null,null,null,null,null,null,null,null,{"$f":"AL41","v":0},":",{"$f":"AJ41","v":0},{"$f":"$AL$44","v":0},":",{"$f":"$AJ$44","v":0},0,":",0]
[null,null,null,null,null,null,null,null,null,null,null,null,null,null,null,null,null,null,null,null,null,null,null,null,null,null,null,null,null,null,null,null,null,null,null,null,null,null,null,null,null,{"$f":"IF($AM$42<>\"\",$AM$42,\"\")","v":""},null,null,0,null,0]
[null,null,null,null,null,null,null,null,null,null,null,null,null,null,null,null,null,null,null,null,null,null,null,null,null,null,null,null,null,null,null,null,null,null,null,null,null,null,null,null,null,{"$f":"$AO$43","v":0},":",{"$f":"$AM$43","v":0},0,":",0]
[null,null,null,null,null,null,null,null,null,null,null,null,null,null,null,null,null,null,null,null,null,null,null,null,null,null,null,null,null,null,null,null,null,null,null,null,null,null,null,null,null,{"$f":"$AO$44","v":0},":",{"$f":"$AM$44","v":0},0,":",0]
[null,null,null,null,null,null,null,null,null,null,null,null,null,null,null,null,null,null,null,null,null,null,null,null,null,null,null,null,null,null,null,null,null,null,null,null,null,null,null,null,null,null,null,null,0,null,0]
[null,null,null,":",null,null,":",null,null,":",null,null,":",null,null,":",null,null,":",null,null,":",null,null,":",null,null,":",null,null,":",null,null,":",null,null,":",null,null,":",null,null,null,null,0,":",0]
[null,null,null,":",null,null,":",null,null,":",null,null,":",null,null,":",null,null,":",null,null,":",null,null,":",null,null,":",null,null,":",null,null,":",null,null,":",null,null,":",null,null,null,null,0,":",0]

{"sheet":"Tabulka podzimní část","index":5,"n_rows":44,"n_cols":47,"rows_kept":44,"cut":false,"hidden":true,"merged":[[38,35,38,37],[38,41,38,43],[41,2,41,4],[41,5,41,7],[41,8,41,10],[41,11,41,13],[41,14,41,16],[41,17,41,19],[41,20,41,22],[41,35,41,37],[41,38,41,40],[41,23,41,25],[41,26,41,28],[41,29,41,31],[41,32,41,34],[38,0,40,0],[38,1,40,1],[38,2,38,4],[38,5,38,7],[38,8,38,10],[38,11,38,13],[35,29,35,31],[35,32,35,34],[38,20,38,22],[38,23,38,25],[38,26,38,28],[38,29,38,31],[38,14,38,16],[38,17,38,19],[38,32,38,34],[32,38,32,40],[32,41,32,43],[35,0,37,0],[35,1,37,1],[35,2,35,4],[35,5,35,7],[35,8,35,10],[35,11,35,13],[35,14,35,16],[35,38,35,40],[35,41,35,43],[35,17,35,19],[35,20,35,22],[35,23,35,25],[35,26,35,28],[32,0,34,0],[32,1,34,1],[32,2,32,4],[32,5,32,7],[26,0,28,0],[26,1,28,1],[26,2,26,4],[26,5,26,7],[26,8,26,10],[26,11,26,13],[29,32,29,34],[29,35,29,37],[32,20,32,22],[32,23,32,25],[32,26,32,28],[32,29,32,31],[32,8,32,10],[32,11,32,13],[32,14,32,16],[32,17,32,19],[32,35,32,37],[29,0,31,0],[29,1,31,1],[29,2,29,4],[29,5,29,7],[29,8,29,10],[29,11,29,13],[29,14,29,16],[29,38,29,40],[29,41,29,43],[29,17,29,19],[29,20,29,22],[29,23,29,25],[29,26,29,28],[26,20,26,22],[26,23,26,25],[26,29,26,31],[26,32,26,34],[26,14,26,16],[26,17,26,19],[26,35,26,37],[26,38,26,40],[26,41,26,43],[20,38,20,40],[20,41,20,43],[23,0,25,0],[23,1,25,1],[23,2,23,4],[23,5,23,7],[23,8,23,10],[23,11,23,13],[23,14,23,16],[23,38,23,40],[23,41,23,43],[23,17,23,19],[23,20,23,22],[23,26,23,28],[23,29,23,31],[20,0,22,0],[20,1,22,1],[20,2,20,4],[20,5,20,7],[23,32,23,34],[23,35,23,37],[14,0,16,0],[14,1,16,1],[14,2,14,4],[14,5,14,7],[14,8,14,10],[14,11,14,13],[17,32,17,34],[17,35,17,37],[20,23,20,25],[20,26,20,28],[20,29,20,31],[20,32,20,34],[20,8,20,10],[20,11,20,13],[20,14,20,16],[20,17,20,19],[20,35,20,37],[17,0,19,0],[17,1,19,1],[17,2,17,4],[17,5,17,7],[17,8,17,10],[17,11,17,13],[17,14,17,16],[17,38,17,40],[17,41,17,43],[17,20,17,22],[17,23,17,25],[17,26,17,28],[17,29,17,31],[14,23,14,25],[14,26,14,28],[14,29,14,31],[14,32,14,34],[14,17,14,19],[14,20,14,22],[14,35,14,37],[14,38,14,40],[14,41,14,43],[8,38,8,40],[8,41,8,43],[11,0,13,0],[11,1,13,1],[11,2,11,4],[11,5,11,7],[11,8,11,10],[11,14,11,16],[11,17,11,19],[11,38,11,40],[11,41,11,43],[11,20,11,22],[11,23,11,25],[11,26,11,28],[11,29,11,31],[8,0,10,0],[8,1,10,1],[8,2,8,4],[8,5,8,7],[11,32,11,34],[11,35,11,37],[8,23,8,25],[8,26,8,28],[8,29,8,31],[8,32,8,34],[8,11,8,13],[8,14,8,16],[8,17,8,19],[8,20,8,22],[8,35,8,37],[5,0,7,0],[5,1,7,1],[5,2,5,4],[5,8,5,10],[5,11,5,13],[5,14,5,16],[5,17,5,19],[5,38,5,40],[5,41,5,43],[5,20,5,22],[5,23,5,25],[5,26,5,28],[5,29,5,31],[5,32,5,34],[5,35,5,37],[2,0,4,0],[2,1,4,1],[2,5,2,7],[2,8,2,10],[2,11,2,13],[2,14,2,16],[2,35,2,37],[2,38,2,40],[2,41,2,43],[2,17,2,19],[2,20,2,22],[1,29,1,31],[1,32,1,34],[1,35,1,37],[1,38,1,40],[2,23,2,25],[2,26,2,28],[2,29,2,31],[2,32,2,34],[0,0,0,46],[1,2,1,4],[1,5,1,7],[1,8,1,10],[1,11,1,13],[1,14,1,16],[1,17,1,19],[1,20,1,22],[1,23,1,25],[1,26,1,28],[1,41,1,43],[1,44,1,46]]}
["Tabulka 1. liga podzimní část"]
["1. Liga 2013 - 2014",null,{"$f":"A3","v":"Šody"},null,null,{"$f":"A6","v":"Georeal "},null,null,{"$f":"A9","v":"Hudba"},null,null,{"$f":"A12","v":"Re/Max Drive"},null,null,{"$f":"A15","v":"Danone"},null,null,{"$f":"A18","v":"MVS"},null,null,{"$f":"A21","v":"Bouráci"},null,null,{"$f":"A24","v":"Básníci "},null,null,{"$f":"A27","v":"DC Mezihoří A"},null,null,{"$f":"A30","v":"DC Mezihoří B"},null,null,{"$f":"A33","v":"TS BN"},null,null,{"$f":"A36","v":"Enersol"},null,null,{"$f":"A39","v":"Lederos"},null,null,{"$f":"A42","v":0},null,null,"Celkem     zápasy / body        skóre"]
["Šody",null,null,null,null,{"$f":"IF(C6<>\"\",C6,\"\")","v":"2013-10-24"},null,null,{"$f":"IF(C9<>\"\",C9,\"\")","v":"2013-10-17"},null,null,{"$f":"IF(C12<>\"\",C12,\"\")","v":"2013-09-24"},null,null,{"$f":"IF(C15<>\"\",C15,\"\")","v":"2013-10-08"},null,null,{"$f":"IF(C18<>\"\",C18,\"\")","v":"2013-09-17"},null,null,{"$f":"IF(C21<>\"\",C21,\"\")","v":"2013-11-05"},null,null,{"$f":"IF(C24<>\"\",C24,\"\")","v":"2014-01-23"},null,null,{"$f":"IF(C27<>\"\",C27,\"\")","v":"2013-11-19"},null,null,{"$f":"IF($C$30<>\"\",$C$30,\"\")","v":"2014-01-16"},null,null,{"$f":"IF($C$33<>\"\",$C$33,\"\")","v":"2014-01-30"},null,null,{"$f":"IF($C$36<>\"\",$C$36,\"\")","v":"2013-10-03"},null,null,{"$f":"IF($C$39<>\"\",$C$39,\"\")","v":"2013-12-10"},null,null,{"$f":"IF($C$42<>\"\",$C$42,\"\")","v":""},null,null,13,null,18]
[null,null,null,null,null,{"$f":"E7","v":0},":",{"$f":"C7","v":8},{"$f":"E10","v":2},":",{"$f":"C10","v":6},{"$f":"E13","v":8},":",{"$f":"C13","v":0},{"$f":"E16","v":6},":",{"$f":"C16","v":2},{"$f":"E19","v":6},":",{"$f":"C19","v":2},{"$f":"E22","v":2},":",{"$f":"C22","v":6},{"$f":"E25","v":6},":",{"$f":"C25","v":2},{"$f":"E28","v":7},":",{"$f":"C28","v":1},{"$f":"E31","v":8},":",{"$f":"C31","v":0},{"$f":"E34","v":6},":",{"$f":"C34","v":2},{"$f":"E37","v":6},":",{"$f":"C37","v":2},{"$f":"E40","v":0},":",{"$f":"C40","v":8},{"$f":"E43","v":0},":",{"$f":"C43","v":0},63,":",41]
[null,null,null,null,null,{"$f":"E8","v":772},":",{"$f":"C8","v":815},{"$f":"E11","v":801},":",{"$f":"C11","v":821},{"$f":"E14","v":772},":",{"$f":"C14","v":715},{"$f":"E17","v":761},":",{"$f":"C17","v":705},{"$f":"E20","v":792},":",{"$f":"C20","v":745},{"$f":"E23","v":806},":",{"$f":"C23","v":837},{"$f":"E26","v":803},":",{"$f":"C26","v":789},{"$f":"E29","v":821},":",{"$f":"C29","v":789},{"$f":"E32","v":769},":",{"$f":"C32","v":744},{"$f":"E35","v":777},":",{"$f":"C35","v":696},{"$f":"E38","v":718},":",{"$f":"C38","v":717},{"$f":"E41","v":795},":",{"$f":"C41","v":845},{"$f":"E44","v":0},":",{"$f":"C44","v":0},10196,":",10012]
["Georeal ",null,"2013-10-24",null,null,null,null,null,{"$f":"IF(F9<>\"\",F9,\"\")","v":"2013-09-19"},null,null,{"$f":"IF(F12<>\"\",F12,\"\")","v":"2014-01-16"},null,null,{"$f":"IF(F15<>\"\",F15,\"\")","v":"2013-10-31"},null,null,{"$f":"IF(F18<>\"\",F18,\"\")","v":"2014-01-07"},null,null,{"$f":"IF(F21<>\"\",F21,\"\")","v":"2013-10-29"},null,null,{"$f":"IF(F24<>\"\",F24,\"\")","v":"2013-11-26"},null,null,{"$f":"IF(F27<>\"\",F27,\"\")","v":"2013-10-08"},null,null,{"$f":"IF($F$30<>\"\",$F$30,\"\")","v":"2013-11-12"},null,null,{"$f":"IF($F$33<>\"\",$F$33,\"\")","v":"2013-12-03"},null,null,{"$f":"IF($F$36<>\"\",$F$36,\"\")","v":"2014-01-21"},null,null,{"$f":"IF($F$39<>\"\",$F$39,\"\")","v":"2013-10-15"},null,null,{"$f":"IF($F$42<>\"\",$F$3943,\"\")","v":""},null,null,12,null,22]
[null,null,8,":",0,null,null,null,{"$f":"H10","v":6},":",{"$f":"F10","v":2},{"$f":"H13","v":6},":",{"$f":"F13","v":2},{"$f":"H16","v":8},":",{"$f":"F16","v":0},{"$f":"H19","v":4},":",{"$f":"F19","v":4},{"$f":"H22","v":4},":",{"$f":"F22","v":4},{"$f":"H25","v":8},":",{"$f":"F25","v":0},{"$f":"H28","v":6},":",{"$f":"F28","v":2},{"$f":"H31","v":6},":",{"$f":"F31","v":2},{"$f":"H34","v":6},":",{"$f":"F34","v":2},{"$f":"H37","v":8},":",{"$f":"F37","v":0},{"$f":"$H40","v":6},":",{"$f":"$F40","v":2},{"$f":"$H43","v":0},":",{"$f":"$F43","v":0},76,":",20]
[null,null,815,":",772,null,null,null,{"$f":"H11","v":836},":",{"$f":"F11","v":826},{"$f":"H14","v":834},":",{"$f":"F14","v":791},{"$f":"H17","v":812},":",{"$f":"F17","v":659},{"$f":"H20","v":839},":",{"$f":"F20","v":807},{"$f":"H23","v":832},":",{"$f":"F23","v":817},{"$f":"H26","v":824},":",{"$f":"F26","v":768},{"$f":"H29","v":848},":",{"$f":"F29","v":809},{"$f":"H32","v":882},":",{"$f":"F32","v":853},{"$f":"H35","v":814},":",{"$f":"F35","v":789},{"$f":"H38","v":827},":",{"$f":"F38","v":740},{"$f":"$H41","v":851},":",{"$f":"$F41","v":823},{"$f":"$H44","v":0},":",{"$f":"$F44","v":0},10014,":",9454]
["Hudba",null,"2013-10-17",null,null,"2013-09-19",null,null,null,null,null,{"$f":"IF(I12<>\"\",I12,\"\")","v":"2014-01-09"},null,null,{"$f":"IF(I15<>\"\",I15,\"\")","v":"2014-01-23"},null,null,{"$f":"IF(I18<>\"\",I18,\"\")","v":"2013-12-10"},null,null,{"$f":"IF(I21<>\"\",I21,\"\")","v":"2013-09-26"},null,null,{"$f":"IF(I24<>\"\",I24,\"\")","v":"2013-11-12"},null,null,{"$f":"IF(I27<>\"\",I27,\"\")","v":"2013-10-03"},null,null,{"$f":"IF($I$30<>\"\",$I$30,\"\")","v":"2013-10-24"},null,null,{"$f":"IF($I$33<>\"\",$I$33,\"\")","v":"2013-11-26"},null,null,{"$f":"IF($I$36<>\"\",$I$36,\"\")","v":"2014-01-16"},null,null,{"$f":"IF($I$39<>\"\",$I$39,\"\")","v":"2013-10-10"},null,null,{"$f":"IF($I$42<>\"\",$I$42,\"\")","v":""},null,null,12,null,19]
[null,null,6,":",2,2,":",6,null,null,null,{"$f":"K13","v":4},":",{"$f":"I13","v":4},{"$f":"K16","v":8},":",{"$f":"I16","v":0},{"$f":"K19","v":8},":",{"$f":"I19","v":0},{"$f":"K22","v":2},":",{"$f":"I22","v":6},{"$f":"K25","v":8},":",{"$f":"I25","v":0},{"$f":"K28","v":6},":",{"$f":"I28","v":2},{"$f":"K31","v":6},":",{"$f":"I31","v":2},{"$f":"K34","v":8},":",{"$f":"I34","v":0},{"$f":"K37","v":8},":",{"$f":"I37","v":0},{"$f":"K40","v":6},":",{"$f":"I40","v":2},{"$f":"$K$43","v":0},":",{"$f":"$I$43","v":0},72,":",24]
[null,null,821,":",801,826,":",836,null,null,null,{"$f":"K14","v":804},":",{"$f":"I14","v":784},{"$f":"K17","v":777},":",{"$f":"I17","v":677},{"$f":"K20","v":806},":",{"$f":"I20","v":777},{"$f":"K23","v":804},":",{"$f":"I23","v":850},{"$f":"K26","v":838},":",{"$f":"I26","v":772},{"$f":"K29","v":852},":",{"$f":"I29","v":809},{"$f":"K32","v":807},":",{"$f":"I32","v":741},{"$f":"K35","v":762},":",{"$f":"I35","v":0},{"$f":"K38","v":865},":",{"$f":"I38","v":714},{"$f":"K41","v":830},":",{"$f":"I41","v":783},{"$f":"$K$44","v":0},":",{"$f":"$I$44","v":0},9792,":",8544]
["Re/Max Drive",null,"2013-09-24",null,null,"2014-01-16",null,null,"2014-01-09",null,null,null,null,null,{"$f":"IF(L15<>\"\",L15,\"\")","v":"2013-12-03"},null,null,{"$f":"IF(L18<>\"\",L18,\"\")","v":"2013-10-24"},null,null,{"$f":"IF(L21<>\"\",L21,\"\")","v":"2014-01-27"},null,null,{"$f":"IF(L24<>\"\",L24,\"\")","v":"2013-10-10"},null,null,{"$f":"IF(L27<>\"\",L27,\"\")","v":"2013-09-12"},null,null,{"$f":"IF($L$30<>\"\",$L$30,\"\")","v":"2013-10-01"},null,null,{"$f":"IF($L$33<>\"\",$L$33,\"\")","v":"2013-10-15"},null,null,{"$f":"IF($L$36<>\"\",$L$36,\"\")","v":"2013-11-19"},null,null,{"$f":"IF($L$39<>\"\",$L$39,\"\")","v":"2013-09-17"},null,null,{"$f":"IF($L$42<>\"\",$L$42,\"\")","v":""},null,null,14,null,16]
[null,null,0,":",8,2,":",6,4,":",4,null,null,null,{"$f":"N16","v":8},":",{"$f":"L16","v":0},{"$f":"N19","v":6},":",{"$f":"L19","v":2},{"$f":"N22","v":2},":",{"$f":"L22","v":6},{"$f":"N25","v":8},":",{"$f":"L25","v":0},{"$f":"N28","v":6},":",{"$f":"L28","v":2},{"$f":"N31","v":2},":",{"$f":"L31","v":6},{"$f":"N34","v":6},":",{"$f":"L34","v":2},{"$f":"N37","v":6},":",{"$f":"L37","v":2},{"$f":"N40","v":4},":",{"$f":"L40","v":4},{"$f":"$N$43","v":0},":",{"$f":"$L$43","v":0},62,":",50]
[null,null,715,":",772,791,":",834,784,":",804,null,null,null,{"$f":"N17","v":825},":",{"$f":"L17","v":723},{"$f":"N20","v":781},":",{"$f":"L20","v":760},{"$f":"N23","v":801},":",{"$f":"L23","v":817},{"$f":"N26","v":854},":",{"$f":"L26","v":804},{"$f":"N29","v":794},":",{"$f":"L29","v":771},{"$f":"N32","v":773},":",{"$f":"L32","v":836},{"$f":"N35","v":771},":",{"$f":"L35","v":483},{"$f":"N38","v":760},":",{"$f":"L38","v":755},{"$f":"N41","v":775},":",{"$f":"L41","v":790},{"$f":"$N$44","v":0},":",{"$f":"$L$44","v":0},10974,":",10702]
["Danone",null,"2013-10-08",null,null,"2013-10-31",null,null,"2014-01-23",null,null,"2013-12-03",null,null,null,null,null,{"$f":"IF(O18<>\"\",O18,\"\")","v":"2013-11-19"},null,null,{"$f":"IF(O21<>\"\",O21,\"\")","v":"2013-09-17"},null,null,{"$f":"IF(O24<>\"\",O24,\"\")","v":"2013-10-22"},null,null,{"$f":"IF(O27<>\"\",O27,\"\")","v":"2013-09-26"},null,null,{"$f":"IF($O$30<>\"\",$O$30,\"\")","v":"2013-10-17"},null,null,{"$f":"IF($O$33<>\"\",$O$33,\"\")","v":"2013-11-12"},null,null,{"$f":"IF($O$36<>\"\",$O$36,\"\")","v":"2014-01-07"},null,null,{"$f":"IF($O$39<>\"\",$O$39,\"\")","v":"2013-10-03"},null,null,{"$f":"IF($O$42<>\"\",$O$42,\"\")","v":""},null,null,13,null,2]
[null,null,2,":",6,0,":",8,0,":",8,0,":",8,null,null,null,{"$f":"Q19","v":0},":",{"$f":"O19","v":8},{"$f":"Q22","v":0},":",{"$f":"O22","v":8},{"$f":"Q25","v":2},":",{"$f":"O25","v":6},{"$f":"Q28","v":4},":",{"$f":"O28","v":4},{"$f":"Q31","v":0},":",{"$f":"O31","v":8},{"$f":"Q34","v":0},":",{"$f":"O34","v":8},{"$f":"Q37","v":4},":",{"$f":"O37","v":4},{"$f":"Q40","v":2},":",{"$f":"O40","v":6},{"$f":"$Q$43","v":0},":",{"$f":"$O$43","v":0},15,":",89]
[null,null,705,":",761,659,":",812,677,":",777,723,":",825,null,null,null,{"$f":"Q20","v":677},":",{"$f":"O20","v":771},{"$f":"Q23","v":686},":",{"$f":"O23","v":816},{"$f":"Q26","v":722},":",{"$f":"O26","v":790},{"$f":"Q29","v":788},":",{"$f":"O29","v":792},{"$f":"Q32","v":688},":",{"$f":"O32","v":793},{"$f":"Q35","v":681},":",{"$f":"O35","v":787},{"$f":"Q38","v":760},":",{"$f":"O38","v":754},{"$f":"Q41","v":680},":",{"$f":"O41","v":782},{"$f":"$Q$44","v":0},":",{"$f":"$O$44","v":0},9194,":",10253]
["MVS",null,"2013-09-17",null,null,"2014-01-07",null,null,"2013-12-10",null,null,"2013-10-24",null,null,"2013-11-19",null,null,null,null,null,{"$f":"IF(R21<>\"\",R21,\"\")","v":"2014-01-14"},null,null,{"$f":"IF(R24<>\"\",R24,\"\")","v":"2013-10-01"},null,null,{"$f":"IF(R27<>\"\",R27,\"\")","v":"2014-01-21"},null,null,{"$f":"IF($R$30<>\"\",$R$30,\"\")","v":"2013-09-24"},null,null,{"$f":"IF($R$33<>\"\",$R$33,\"\")","v":"2013-10-08"},null,null,{"$f":"IF($R$36<>\"\",$R$36,\"\")","v":"2013-11-26"},null,null,{"$f":"IF($R$39<>\"\",$R$39,\"\")","v":"2013-09-10"},null,null,{"$f":"IF($R$42<>\"\",$R$42,\"\")","v":""},null,null,13,null,11]
[null,null,2,":",6,4,":",4,0,":",8,2,":",6,8,":",0,null,null,null,{"$f":"T22","v":0},":",{"$f":"R22","v":8},{"$f":"T25","v":7},":",{"$f":"R25","v":1},{"$f":"T28","v":2},":",{"$f":"R28","v":6},{"$f":"T31","v":2},":",{"$f":"R31","v":6},{"$f":"T34","v":6},":",{"$f":"R34","v":2},{"$f":"T37","v":6},":",{"$f":"R37","v":2},{"$f":"T40","v":0},":",{"$f":"R40","v":8},{"$f":"$T$43","v":0},":",{"$f":"$R$43","v":0},47,":",57]
[null,null,745,":",792,807,":",839,777,":",806,760,":",781,771,":",677,null,null,null,{"$f":"T23","v":788},":",{"$f":"R23","v":825},{"$f":"T26","v":783},":",{"$f":"R26","v":755},{"$f":"T29","v":767},":",{"$f":"R29","v":783},{"$f":"T32","v":746},":",{"$f":"R32","v":757},{"$f":"T35","v":793},":",{"$f":"R35","v":787},{"$f":"T38","v":792},":",{"$f":"R38","v":738},{"$f":"T41","v":703},":",{"$f":"R41","v":779},{"$f":"$T$44","v":0},":",{"$f":"$R$44","v":0},9998,":",9319]
["Bouráci",null,"2013-11-05",null,null,"2013-10-29",null,null,"2013-09-26",null,null,"2014-01-27",null,null,"2013-09-17",null,null,"2014-01-14",null,null,null,null,null,{"$f":"IF(U24<>\"\",U24,\"\")","v":"2013-12-05"},null,null,{"$f":"IF(U27<>\"\",U27,\"\")","v":"2013-12-05"},null,null,{"$f":"IF($U$30<>\"\",$U$30,\"\")","v":"2013-11-26"},null,null,{"$f":"IF($U$33<>\"\",$U$33,\"\")","v":"2014-01-07"},null,null,{"$f":"IF($U$36<>\"\",$U$36,\"\")","v":"2013-09-12"},null,null,{"$f":"IF($U$39<>\"\",$U$39,\"\")","v":"2013-10-22"},null,null,{"$f":"IF($U$42<>\"\",$U$42,\"\")","v":""},null,null,13,null,21]
[null,null,6,":",2,4,":",4,6,":",2,6,":",2,8,":",0,8,":",0,null,null,null,{"$f":"W25","v":6},":",{"$f":"U25","v":2},{"$f":"W28","v":6},":",{"$f":"U28","v":2},{"$f":"W31","v":0},":",{"$f":"U31","v":8},{"$f":"W34","v":8},":",{"$f":"U34","v":0},{"$f":"W37","v":8},":",{"$f":"U37","v":0},{"$f":"W40","v":6},":",{"$f":"U40","v":2},{"$f":"$W$43","v":0},":",{"$f":"$U$43","v":0},74,":",30]
[null,null,837,":",806,817,":",832,850,":",804,817,":",801,816,":",686,825,":",788,null,null,null,{"$f":"W26","v":765},":",{"$f":"U26","v":760},{"$f":"W29","v":827},":",{"$f":"U29","v":797},{"$f":"W32","v":757},":",{"$f":"U32","v":843},{"$f":"W35","v":828},":",{"$f":"U35","v":0},{"$f":"W38","v":803},":",{"$f":"U38","v":725},{"$f":"W41","v":811},":",{"$f":"U41","v":797},{"$f":"$W$44","v":0},":",{"$f":"$W$44","v":0},10547,":",9448]
["Básníci ",null,"2014-01-23",null,null,"2013-11-26",null,null,"2013-11-12",null,null,"2013-10-10",null,null,"2013-10-22",null,null,"2013-10-01",null,null,"2013-12-05",null,null,null,null,null,{"$f":"IF(X27<>\"\",X27,\"\")","v":"2014-01-09"},null,null,{"$f":"IF($X$30<>\"\",$X$30,\"\")","v":"2013-09-12"},null,null,{"$f":"IF($X$33<>\"\",$X$33,\"\")","v":"2013-09-24"},null,null,{"$f":"IF($X$36<>\"\",$X$36,\"\")","v":"2013-10-15"},null,null,{"$f":"IF($X$39<>\"\",$X$39,\"\")","v":"2014-01-16"},null,null,{"$f":"IF($X$42<>\"\",$X$42,\"\")","v":""},null,null,13,null,9]
[null,null,2,":",6,0,":",8,0,":",8,0,":",8,6,":",2,1,":",7,2,":",6,null,null,null,{"$f":"Z28","v":2},":",{"$f":"X28","v":6},{"$f":"Z31","v":6},":",{"$f":"X31","v":2},{"$f":"Z34","v":4},":",{"$f":"X34","v":4},{"$f":"Z37","v":6},":",{"$f":"X37","v":2},{"$f":"Z40","v":2},":",{"$f":"X40","v":6},{"$f":"$Z$43","v":0},":",{"$f":"$X$43","v":0},38,":",66]
[null,null,789,":",803,768,":",824,772,":",838,804,":",854,790,":",722,755,":",783,760,":",765,null,null,null,{"$f":"Z29","v":773},":",{"$f":"X29","v":775},{"$f":"Z32","v":799},":",{"$f":"X32","v":793},{"$f":"Z35","v":790},":",{"$f":"X35","v":714},{"$f":"Z38","v":793},":",{"$f":"X38","v":723},{"$f":"Z41","v":829},":",{"$f":"X41","v":863},{"$f":"$Z$44","v":0},":",{"$f":"$X$44","v":0},10215,":",10205]
["DC Mezihoří A",null,"2013-11-19",null,null,"2013-10-08",null,null,"2013-10-03",null,null,"2013-09-12",null,null,"2013-09-26",null,null,"2014-01-21",null,null,"2013-12-05",null,null,"2014-01-09",null,null,null,null,null,{"$f":"IF($AA$30<>\"\",$AA$30,\"\")","v":"2013-12-10"},null,null,{"$f":"IF($AA$33<>\"\",$AA$33,\"\")","v":"2014-01-16"},null,null,{"$f":"IF($AA$36<>\"\",$AA$36,\"\")","v":"2013-10-31"},null,null,{"$f":"IF($AA$39<>\"\",$AA$39,\"\")","v":"2013-11-05"},null,null,{"$f":"IF($AA42<>\"\",$AA$42,\"\")","v":""},null,null,14,null,15]
[null,null,1,":",7,2,":",6,2,":",6,2,":",6,4,":",4,6,":",2,2,":",6,6,":",2,null,null,null,{"$f":"AC31","v":6},":",{"$f":"AA31","v":2},{"$f":"AC34","v":6},":",{"$f":"AA34","v":2},{"$f":"AC37","v":8},":",{"$f":"AA37","v":0},{"$f":"AC40","v":6},":",{"$f":"AA40","v":2},{"$f":"$AC$43","v":0},":",{"$f":"$AA$43","v":0},59,":",53]
[null,null,789,":",821,809,":",848,809,":",852,771,":",794,792,":",788,783,":",767,797,":",827,775,":",773,null,null,null,{"$f":"AC32","v":823},":",{"$f":"AA32","v":818},{"$f":"AC35","v":795},":",{"$f":"AA35","v":535},{"$f":"AC38","v":827},":",{"$f":"AA38","v":774},{"$f":"AC41","v":779},":",{"$f":"AA41","v":770},{"$f":"$AC$44","v":0},":",{"$f":"$AA$44","v":0},11147,":",10978]
["DC Mezihoří B",null,"2014-01-16",null,null,"2013-11-12",null,null,"2013-10-24",null,null,"2013-10-01",null,null,"2013-10-17",null,null,"2013-09-24",null,null,"2013-11-26",null,null,"2013-09-12",null,null,"2013-12-10",null,null,null,null,null,{"$f":"IF($AD$33<>\"\",$AD$33,\"\")","v":"2013-09-19"},null,null,{"$f":"IF($AD$36<>\"\",$AD$36,\"\")","v":"2013-10-10"},null,null,{"$f":"IF($AD$39<>\"\",$AD$39,\"\")","v":"2014-01-07"},null,null,{"$f":"IF($AD$42<>\"\",$AD$42,\"\")","v":""},null,null,13,null,16]
[null,null,0,":",8,2,":",6,2,":",6,6,":",2,8,":",0,6,":",2,8,":",0,2,":",6,2,":",6,null,null,null,{"$f":"AF34","v":8},":",{"$f":"AD34","v":0},{"$f":"AF37","v":8},":",{"$f":"AD37","v":0},{"$f":"AF40","v":6},":",{"$f":"AD40","v":2},{"$f":"$AF$43","v":0},":",{"$f":"$AD$43","v":0},64,":",40]
[null,null,744,":",769,853,":",882,741,":",807,836,":",{"$f":"275+257+241","v":773},793,":",688,757,":",746,843,":",757,793,":",799,818,":",823,null,null,null,{"$f":"AF35","v":810},":",{"$f":"AD35","v":754},{"$f":"AF38","v":798},":",{"$f":"AD38","v":727},{"$f":"AF41","v":805},":",{"$f":"AD41","v":777},{"$f":"$AF$44","v":0},":",{"$f":"$AD$44","v":0},10413,":",10095]
["TS BN",null,"2014-01-30",null,null,"2013-12-03",null,null,"2013-11-26",null,null,"2013-10-15",null,null,"2013-11-12",null,null,"2013-10-08",null,null,"2014-01-07",null,null,"2013-09-24",null,null,"2014-01-16",null,null,"2013-09-19",null,null,null,null,null,{"$f":"IF($AG$36<>\"\",$AG$36,\"\")","v":"2013-10-22"},null,null,{"$f":"IF($AG$39<>\"\",$AG$39,\"\")","v":"2014-01-23"},null,null,{"$f":"IF($AG$42<>\"\",$AG$42,\"\")","v":""},null,null,14,null,3]
[null,null,2,":",6,2,":",6,0,":",8,2,":",6,8,":",0,2,":",6,0,":",8,4,":",4,2,":",6,0,":",8,null,null,null,{"$f":"AI37","v":2},":",{"$f":"AG37","v":6},{"$f":"AI40","v":0},":",{"$f":"AG40","v":8},{"$f":"$AI$43","v":0},":",{"$f":"$AG$43","v":0},24,":",88]
[null,null,696,":",777,789,":",814,0,":",762,483,":",771,787,":",681,787,":",793,0,":",828,714,":",790,535,":",795,754,":",810,null,null,null,{"$f":"AI38","v":520},":",{"$f":"AG38","v":767},{"$f":"AI41","v":0},":",{"$f":"AG41","v":762},{"$f":"$AI$44","v":0},":",{"$f":"$AG$44","v":0},6065,":",10871]
["Enersol",null,"2013-10-03",null,null,"2014-01-21",null,null,"2014-01-16",null,null,"2013-11-19",null,null,"2014-01-07",null,null,"2013-11-26",null,null,"2013-09-12",null,null,"2013-10-15",null,null,"2013-10-31",null,null,"2013-10-10",null,null,"2013-10-22",null,null,null,null,null,{"$f":"IF($AJ$39<>\"\",$AJ$39,\"\")","v":"2013-09-26"},null,null,{"$f":"IF($AJ$42<>\"\",$AJ$42,\"\")","v":""},null,null,13,null,5]
[null,null,2,":",6,0,":",8,0,":",8,2,":",6,4,":",4,2,":",6,0,":",8,2,":",6,0,":",8,0,":",8,6,":",2,null,null,null,{"$f":"AL40","v":0},":",{"$f":"AJ40","v":8},{"$f":"$AL$43","v":0},":",{"$f":"$AJ$43","v":0},26,":",78]
[null,null,717,":",718,740,":",827,714,":",865,755,":",760,754,":",760,738,":",792,725,":",803,723,":",793,774,":",827,727,":",798,767,":",520,null,null,null,{"$f":"AL41","v":717},":",{"$f":"AJ41","v":780},{"$f":"$AL$44","v":0},":",{"$f":"$AJ$44","v":0},9606,":",9243]
["Lederos",null,"2013-12-10",null,null,"2013-10-15",null,null,"2013-10-10",null,null,"2013-09-17",null,null,"2013-10-03",null,null,"2013-09-10",null,null,"2013-10-22",null,null,"2014-01-16",null,null,"2013-11-05",null,null,"2014-01-07",null,null,"2014-01-23",null,null,"2013-09-26",null,null,null,null,null,{"$f":"IF($AM$42<>\"\",$AM$42,\"\")","v":""},null,null,13,null,13]
[null,null,8,":",0,2,":",6,2,":",6,4,":",4,6,":",2,8,":",0,2,":",6,6,":",2,2,":",6,2,":",6,8,":",0,8,":",0,null,null,null,{"$f":"$AO$43","v":0},":",{"$f":"$AM$43","v":0},60,":",44]
[null,null,845,":",795,823,":",851,783,":",830,790,":",775,782,":",680,779,":",703,797,":",811,863,":",829,770,":",779,777,":",805,762,":",0,780,":",717,null,null,null,{"$f":"$AO$44","v":0},":",{"$f":"$AM$44","v":0},10299,":",9336]
[null,null,null,null,null,null,null,null,null,null,null,null,null,null,null,null,null,null,null,null,null,null,null,null,null,null,null,null,null,null,null,null,null,null,null,null,null,null,null,null,null,null,null,null,0,null,0]
[null,null,null,":",null,null,":",null,null,":",null,null,":",null,null,":",null,null,":",null,null,":",null,null,":",null,null,":",null,null,":",null,null,":",null,null,":",null,null,":",null,null,null,null,0,":",0]
[null,null,null,":",null,null,":",null,null,":",null,null,":",null,null,":",null,null,":",null,null,":",null,null,":",null,null,":",null,null,":",null,null,":",null,null,":",null,null,":",null,null,null,null,0,":",0]